BEGIN:VCALENDAR
VERSION:2.0
PRODID:-//DSWA - ECPv6.15.20//NONSGML v1.0//EN
CALSCALE:GREGORIAN
METHOD:PUBLISH
X-WR-CALNAME:DSWA
X-ORIGINAL-URL:https://dswa.com
X-WR-CALDESC:Events for DSWA
REFRESH-INTERVAL;VALUE=DURATION:PT1H
X-Robots-Tag:noindex
X-PUBLISHED-TTL:PT1H
BEGIN:VTIMEZONE
TZID:America/New_York
BEGIN:DAYLIGHT
TZOFFSETFROM:-0500
TZOFFSETTO:-0400
TZNAME:EDT
DTSTART:20230312T070000
END:DAYLIGHT
BEGIN:STANDARD
TZOFFSETFROM:-0400
TZOFFSETTO:-0500
TZNAME:EST
DTSTART:20231105T060000
END:STANDARD
BEGIN:DAYLIGHT
TZOFFSETFROM:-0500
TZOFFSETTO:-0400
TZNAME:EDT
DTSTART:20240310T070000
END:DAYLIGHT
BEGIN:STANDARD
TZOFFSETFROM:-0400
TZOFFSETTO:-0500
TZNAME:EST
DTSTART:20241103T060000
END:STANDARD
BEGIN:DAYLIGHT
TZOFFSETFROM:-0500
TZOFFSETTO:-0400
TZNAME:EDT
DTSTART:20250309T070000
END:DAYLIGHT
BEGIN:STANDARD
TZOFFSETFROM:-0400
TZOFFSETTO:-0500
TZNAME:EST
DTSTART:20251102T060000
END:STANDARD
END:VTIMEZONE
BEGIN:VEVENT
DTSTART;TZID=America/New_York:20241115T150000
DTEND;TZID=America/New_York:20241115T160000
DTSTAMP:20260422T112541
CREATED:20241010T172304Z
LAST-MODIFIED:20241010T172304Z
UID:10087035-1731682800-1731686400@dswa.com
SUMMARY:♻️ Recycling Center Tours (Ages 18+) ♻️
DESCRIPTION:November 15 @ 3:00 pm – 4:00 pm\n️ Dates: \nFriday\, November 15 at 3 PM\nSaturday\, November 16 at 8:30 AM\nJoin us for an exclusive tour of our Materials Recovery Facility (MRF)\, where all single-stream recycling from Delaware is sorted and baled! Discover the recycling process and see how your efforts make a difference! \n Registration required:  https://shorturl.at/MMb6X \nDon’t miss this opportunity to learn more about recycling in Delaware!
URL:https://dswa.com/event/%e2%99%bb%ef%b8%8f-recycling-center-tours-ages-18-%e2%99%bb%ef%b8%8f/2024-11-15/
LOCATION:Delaware Recycling Center\, 1101 Lambson Lane\, New Castle\, DE\, 19720\, United States
GEO:39.702837;-75.5327575
X-APPLE-STRUCTURED-LOCATION;VALUE=URI;X-ADDRESS=Delaware Recycling Center 1101 Lambson Lane New Castle DE 19720 United States;X-APPLE-RADIUS=500;X-TITLE=1101 Lambson Lane:geo:-75.5327575,39.702837
END:VEVENT
END:VCALENDAR