BEGIN:VCALENDAR
VERSION:2.0
PRODID:-//DSWA - ECPv6.15.20//NONSGML v1.0//EN
CALSCALE:GREGORIAN
METHOD:PUBLISH
X-WR-CALNAME:DSWA
X-ORIGINAL-URL:https://dswa.com
X-WR-CALDESC:Events for DSWA
REFRESH-INTERVAL;VALUE=DURATION:PT1H
X-Robots-Tag:noindex
X-PUBLISHED-TTL:PT1H
BEGIN:VTIMEZONE
TZID:America/New_York
BEGIN:DAYLIGHT
TZOFFSETFROM:-0500
TZOFFSETTO:-0400
TZNAME:EDT
DTSTART:20240310T070000
END:DAYLIGHT
BEGIN:STANDARD
TZOFFSETFROM:-0400
TZOFFSETTO:-0500
TZNAME:EST
DTSTART:20241103T060000
END:STANDARD
BEGIN:DAYLIGHT
TZOFFSETFROM:-0500
TZOFFSETTO:-0400
TZNAME:EDT
DTSTART:20250309T070000
END:DAYLIGHT
BEGIN:STANDARD
TZOFFSETFROM:-0400
TZOFFSETTO:-0500
TZNAME:EST
DTSTART:20251102T060000
END:STANDARD
BEGIN:DAYLIGHT
TZOFFSETFROM:-0500
TZOFFSETTO:-0400
TZNAME:EDT
DTSTART:20260308T070000
END:DAYLIGHT
BEGIN:STANDARD
TZOFFSETFROM:-0400
TZOFFSETTO:-0500
TZNAME:EST
DTSTART:20261101T060000
END:STANDARD
END:VTIMEZONE
BEGIN:VEVENT
DTSTART;TZID=America/New_York:20250410T170000
DTEND;TZID=America/New_York:20250410T180000
DTSTAMP:20260421T012041
CREATED:20250107T170610Z
LAST-MODIFIED:20250410T140452Z
UID:10693-1744304400-1744308000@dswa.com
SUMMARY:Administrative & Citizens' Affairs Committee Meeting
DESCRIPTION:DELAWARE SOLID WASTE AUTHORITY \nADMINISTRATIVE & CITIZENS’ AFFAIRS COMMITTEE \n601 Energy Lane Dover\, DE 19901 \nThursday\, April 10\, 2025 \n5:00 p.m. \n  \nUnder Title 29\, Section 10006A of the Delaware Code\, the Administrative & Citizens’ Affairs Committee is holding this meeting as a virtual meeting utilizing Zoom Webinar.  In addition\, this meeting is open to the public at DSWA’s Administration Building (601 Energy Lane Dover\, De 19901).  Join the meeting via Zoom by going to: \n  \nJoin from PC\, Mac\, iPad\, or Android:\nhttps://us02web.zoom.us/j/82058286966?pwd=sp18Z9yzeXZY5zcmMjMwMlXQr12l5g.J_aL-ab0wiPu-ac_ \nOr by phone:\n+13017158592\,\,82058286966#\,\,\,\,*740827# US (Washington DC)\n+13052241968\,\,82058286966#\,\,\,\,*740827# US \n  \nWebinar ID: 820 5828 6966\nPasscode: 740827 \n  \nCOMMITTEE: \nTonda L. Parks\, Chair \n\nTemple Carter III\n\nWilliam J. Riddle \n  \n  \nAGENDA \nA.   Administrative and Citizens’ Affairs Committee Meeting Notes \n           The notes from the March 13\, 2025\, meeting are attached. \n  \nACTION ITEMS: \n B.   Requesting permission to Award the Statewide Household Hazardous Waste Collections Program Contract No. S-24-911-SW \n  \n          Staff is requesting permission to award the Statewide Household Hazardous   Waste Collections Program Contract. \n  \n C.   Letter of Engagement for Wipfli CPAs and Consultants \n           Staff will discuss the Letter of Engagement for Wipfli CPAs and\nConsultants. \n  \n   INFORMATION ITEM: \n  Financial Services \nD. Committee’s Audit Review of Internal Management – Revenue/Cost Results for the Month \n  \n\nStatement of Revenue & Expense\nBank Fund Balance\nAging Summary Report\n\n  \n  \n  \n  \n  \n  \n  \n   \n  \n  \n  \n  \n  \n  \n  \n  \n  \n  \n  \n  \n  \n  \n  \n  \n  \n  \n  \n  \nINFORMATION ITEM: \n  \n  \nFinancial Services \n  \n\n Committee’s Audit Review of Internal Management – Revenue/Cost Results for the Month\n\n  \n\nStatement of Revenue & Expense\nBank Fund Balance\nAging Summary Report\n\n  \n  \n 
URL:https://dswa.com/event/administrative-citizens-affairs-committee-meeting-19/
LOCATION:Zoom Webinar
CATEGORIES:Administrative/Citizens' Affairs Committee,Board of Directors
END:VEVENT
END:VCALENDAR