BEGIN:VCALENDAR
VERSION:2.0
PRODID:-//DSWA - ECPv6.15.20//NONSGML v1.0//EN
CALSCALE:GREGORIAN
METHOD:PUBLISH
X-WR-CALNAME:DSWA
X-ORIGINAL-URL:https://dswa.com
X-WR-CALDESC:Events for DSWA
REFRESH-INTERVAL;VALUE=DURATION:PT1H
X-Robots-Tag:noindex
X-PUBLISHED-TTL:PT1H
BEGIN:VTIMEZONE
TZID:America/New_York
BEGIN:DAYLIGHT
TZOFFSETFROM:-0500
TZOFFSETTO:-0400
TZNAME:EDT
DTSTART:20240310T070000
END:DAYLIGHT
BEGIN:STANDARD
TZOFFSETFROM:-0400
TZOFFSETTO:-0500
TZNAME:EST
DTSTART:20241103T060000
END:STANDARD
BEGIN:DAYLIGHT
TZOFFSETFROM:-0500
TZOFFSETTO:-0400
TZNAME:EDT
DTSTART:20250309T070000
END:DAYLIGHT
BEGIN:STANDARD
TZOFFSETFROM:-0400
TZOFFSETTO:-0500
TZNAME:EST
DTSTART:20251102T060000
END:STANDARD
BEGIN:DAYLIGHT
TZOFFSETFROM:-0500
TZOFFSETTO:-0400
TZNAME:EDT
DTSTART:20260308T070000
END:DAYLIGHT
BEGIN:STANDARD
TZOFFSETFROM:-0400
TZOFFSETTO:-0500
TZNAME:EST
DTSTART:20261101T060000
END:STANDARD
END:VTIMEZONE
BEGIN:VEVENT
DTSTART;TZID=America/New_York:20251113T170000
DTEND;TZID=America/New_York:20251113T180000
DTSTAMP:20260420T212423
CREATED:20250708T141742Z
LAST-MODIFIED:20251112T204615Z
UID:10895-1763053200-1763056800@dswa.com
SUMMARY:Administrative & Citizens' Affairs Committee Meeting
DESCRIPTION:DELAWARE SOLID WASTE AUTHORITY \nADMINISTRATIVE & CITIZENS’ AFFAIRS COMMITTEE \n601 Energy Lane\, Dover\, DE  19901 \nThursday\, November 13\, 2025 \n5:00 p.m. \n  \nUnder Title 29\, Section 10006A of the Delaware Code\, the Administrative & Citizens’ Affairs Committee is holding this meeting as a virtual meeting utilizing Zoom Webinar.  In addition\, this meeting is open to the public at DSWA’s Administration Building (601 Energy Lane\, Dover\, DE 19901).  Join the meeting via Zoom by going to: \n  \nJoin from PC\, Mac\, iPad\, or Android:\nhttps://us02web.zoom.us/j/85712836497?pwd=govKIIY55uXF7JUaaQmsONUHC0bxQg.hrMEHz0RVulmTkFl \nPhone one-tap:\n+13126266799\,\,85712836497#\,\,\,\,*962926# US (Chicago)\n+16469313860\,\,85712836497#\,\,\,\,*962926# US \n  \nWebinar ID: 857 1283 6497\nPasscode: 962926 \n  \nCOMMITTEE: \nTonda L. Parks\, Chair \n\nTemple Carter III\n\nWilliam J. Riddle \n  \nAGENDA \n  \n\n Administrative and Citizens’ Affairs Committee Meeting Notes\n\n  \n            The notes from the October 9\, 2025\, meeting are attached. \n  \nACTION ITEMS: \n  \nBusiness & Governmental Services \n  \n\n Electronic Goods Recycling Program – Contract S-25-927-SW\n\n  \n            Staff will make a recommendation to the Committee to negotiate an agreement for the Statewide Electronics Goods Recycling Program. \n  \nFinancial Services \n  \n\n Committee’s Audit Review of Internal Management – Revenue/Cost Results for the Month\n\n  \n\nStatement of Revenue & Expense\nBank Fund Balance\nAging Summary Report
URL:https://dswa.com/event/administrative-citizens-affairs-committee-meeting-25/
LOCATION:Zoom Webinar
CATEGORIES:Administrative/Citizens' Affairs Committee,Board of Directors
END:VEVENT
END:VCALENDAR