BEGIN:VCALENDAR
VERSION:2.0
PRODID:-//DSWA - ECPv5.1.5//NONSGML v1.0//EN
CALSCALE:GREGORIAN
METHOD:PUBLISH
X-WR-CALNAME:DSWA
X-ORIGINAL-URL:https://dswa.com
X-WR-CALDESC:Events for DSWA
BEGIN:VTIMEZONE
TZID:America/New_York
BEGIN:DAYLIGHT
TZOFFSETFROM:-0500
TZOFFSETTO:-0400
TZNAME:EDT
DTSTART:20170312T070000
END:DAYLIGHT
BEGIN:STANDARD
TZOFFSETFROM:-0400
TZOFFSETTO:-0500
TZNAME:EST
DTSTART:20171105T060000
END:STANDARD
END:VTIMEZONE
BEGIN:VEVENT
DTSTART;TZID=America/New_York:20170817T170000
DTEND;TZID=America/New_York:20170817T180000
DTSTAMP:20210605T141413
CREATED:20170724T175004Z
LAST-MODIFIED:20170814T183500Z
UID:4009-1502989200-1502992800@dswa.com
SUMMARY:Administrative/Citizens Affairs Committee Meeting
DESCRIPTION:AGENDA \nACTION ITEMS: \nPublic Information \nA. Contributions/Donations – Staff will review one (1) request for contribution. \nBusiness & Governmental Services \nB. Recycling Group Organizational Structure – Staff will make a recommendation regarding the Recycling Group. \nINFORMATION ITEMS: \n Public Informatio \nC. Upcoming Events – Staff will apprise the Committee on any upcoming DSWA events. \nD. FOIA Request – Staff will review one (1) FOIA request. \nFinancial Services \nE. Committee’s Audit Review of Internal Management – Revenue/Cost Results for the Month \n\nStatement of Revenue & Expense\nBank Fund Balance\nAging Summary Report\n\n
URL:https://dswa.com/event/administrativecitizens-affairs-committee-meeting-4/
LOCATION:DSWA Administration Building\, 1128 S. Bradford Street\, Dover\, DE\, 19904\, United States
CATEGORIES:Administrative/Citizens' Affairs Committee,Board of Directors
GEO:39.14236;-75.524484
X-APPLE-STRUCTURED-LOCATION;VALUE=URI;X-ADDRESS=DSWA Administration Building 1128 S. Bradford Street Dover DE 19904 United States;X-APPLE-RADIUS=500;X-TITLE=1128 S. Bradford Street:geo:-75.524484,39.14236
END:VEVENT
END:VCALENDAR