BEGIN:VCALENDAR
VERSION:2.0
PRODID:-//DSWA - ECPv5.1.5//NONSGML v1.0//EN
CALSCALE:GREGORIAN
METHOD:PUBLISH
X-WR-CALNAME:DSWA
X-ORIGINAL-URL:https://dswa.com
X-WR-CALDESC:Events for DSWA
BEGIN:VTIMEZONE
TZID:America/New_York
BEGIN:DAYLIGHT
TZOFFSETFROM:-0500
TZOFFSETTO:-0400
TZNAME:EDT
DTSTART:20170312T070000
END:DAYLIGHT
BEGIN:STANDARD
TZOFFSETFROM:-0400
TZOFFSETTO:-0500
TZNAME:EST
DTSTART:20171105T060000
END:STANDARD
END:VTIMEZONE
BEGIN:VEVENT
DTSTART;TZID=America/New_York:20170727T170000
DTEND;TZID=America/New_York:20170727T180000
DTSTAMP:20210605T141250
CREATED:20170724T145623Z
LAST-MODIFIED:20170724T145623Z
UID:3995-1501174800-1501178400@dswa.com
SUMMARY:Board of Director's Meeting
DESCRIPTION:AGENDA \n A. MINUTES – The minutes of the June 29\, 2017\, Board of Directors meeting of the Delaware Solid Waste Authority require approval. \n Report of the Technical Affairs and Facilities Management Committee \n B. Cell 3 & 4 Partial Capping Phase II at the Southern Solid Waste Management Center (SSWMC) – Contract C-17-772-SS \nThe Committee recommends the Board award the contract for the Cell 3 & 4 Partial Capping Phase II at the Southern Solid Waste Management to A-Del Construction as the low bidder. \nC. THE SOUTHERN SOLID WASTE MANAGEMENT CENTER RECYCLING AREA – CONTRACT C-17-773-SS – The Committee recommends the Board award the contract for the Recycling Area at the Southern Solid Waste Management Center to Common Sense Solutions LLC as the low bidder. \nReport of the Administrative & Citizens’ Affairs Committee \nD.  STATEWIDE COLLECTION OF MATERIALS FROM DSWA DROP-OFF CENTERS – CONTRACT S-17-775-SW – The Committee recommends the Board award the contract for the Statewide Collection of Materials From DSWA Drop-Off Centers for Northern Sites to Trash Tech as the low bidder for Option A and for the Southern Sites to BFI Waste Services/Republic for Option B. \nE. CONTRIBUTIONS – The Committee recommends the Board approve the request for sponsorship from the American Heart Association in accordance with DSWA’s Policy Guidance on Contributions. \nNEW BUSINESS \nPUBLIC COMMENT \n  \n
URL:https://dswa.com/event/board-directors-meeting-7/
LOCATION:DSWA Administration Building\, 1128 S. Bradford Street\, Dover\, DE\, 19904\, United States
GEO:39.14236;-75.524484
X-APPLE-STRUCTURED-LOCATION;VALUE=URI;X-ADDRESS=DSWA Administration Building 1128 S. Bradford Street Dover DE 19904 United States;X-APPLE-RADIUS=500;X-TITLE=1128 S. Bradford Street:geo:-75.524484,39.14236
END:VEVENT
END:VCALENDAR