BEGIN:VCALENDAR
VERSION:2.0
PRODID:-//DSWA - ECPv5.1.5//NONSGML v1.0//EN
CALSCALE:GREGORIAN
METHOD:PUBLISH
X-WR-CALNAME:DSWA
X-ORIGINAL-URL:https://dswa.com
X-WR-CALDESC:Events for DSWA
BEGIN:VTIMEZONE
TZID:America/New_York
BEGIN:DAYLIGHT
TZOFFSETFROM:-0500
TZOFFSETTO:-0400
TZNAME:EDT
DTSTART:20190310T070000
END:DAYLIGHT
BEGIN:STANDARD
TZOFFSETFROM:-0400
TZOFFSETTO:-0500
TZNAME:EST
DTSTART:20191103T060000
END:STANDARD
END:VTIMEZONE
BEGIN:VEVENT
DTSTART;TZID=America/New_York:20190328T170000
DTEND;TZID=America/New_York:20190328T190000
DTSTAMP:20210606T225504
CREATED:20181214T032811Z
LAST-MODIFIED:20190327T161520Z
UID:4933-1553792400-1553799600@dswa.com
SUMMARY:Board of Directors Meeting
DESCRIPTION:AGENDA \nA. MINUTES \nThe minutes of the February 28\, 2019\, Board of Directors meeting of the Delaware Solid Waste Authority require approval. \nReport of the Technical and Facilities Management Committee \nB. CONTRUCTION OF THE NEWARK RECYCLING DROP-OFF CENTER – CONTRACT C-18-800-NN \nThe Committee recommends the Board award the contract for the Construction of the Newark Recycling Drop-off Center to Diamond Materials\, LLC as the low bidder. \nC. LEGAL ADVICE \nPursuant to 29 Del. C. Section 10004(b)\, the Board of Directors anticipates that it may go into Executive Session for the purpose of obtaining legal advice. \nNEW BUSINESS \nPUBLIC COMMENT \n
URL:https://dswa.com/event/board-of-directors-meeting-4-2019-03-28/
LOCATION:DSWA Administration Building\, 1128 S. Bradford Street\, Dover\, DE\, 19904\, United States
CATEGORIES:Board of Directors
GEO:39.14236;-75.524484
X-APPLE-STRUCTURED-LOCATION;VALUE=URI;X-ADDRESS=DSWA Administration Building 1128 S. Bradford Street Dover DE 19904 United States;X-APPLE-RADIUS=500;X-TITLE=1128 S. Bradford Street:geo:-75.524484,39.14236
END:VEVENT
END:VCALENDAR