BEGIN:VCALENDAR
VERSION:2.0
PRODID:-//DSWA - ECPv6.15.20//NONSGML v1.0//EN
CALSCALE:GREGORIAN
METHOD:PUBLISH
X-WR-CALNAME:DSWA
X-ORIGINAL-URL:https://dswa.com
X-WR-CALDESC:Events for DSWA
REFRESH-INTERVAL;VALUE=DURATION:PT1H
X-Robots-Tag:noindex
X-PUBLISHED-TTL:PT1H
BEGIN:VTIMEZONE
TZID:America/New_York
BEGIN:DAYLIGHT
TZOFFSETFROM:-0500
TZOFFSETTO:-0400
TZNAME:EDT
DTSTART:20230312T070000
END:DAYLIGHT
BEGIN:STANDARD
TZOFFSETFROM:-0400
TZOFFSETTO:-0500
TZNAME:EST
DTSTART:20231105T060000
END:STANDARD
BEGIN:DAYLIGHT
TZOFFSETFROM:-0500
TZOFFSETTO:-0400
TZNAME:EDT
DTSTART:20240310T070000
END:DAYLIGHT
BEGIN:STANDARD
TZOFFSETFROM:-0400
TZOFFSETTO:-0500
TZNAME:EST
DTSTART:20241103T060000
END:STANDARD
BEGIN:DAYLIGHT
TZOFFSETFROM:-0500
TZOFFSETTO:-0400
TZNAME:EDT
DTSTART:20250309T070000
END:DAYLIGHT
BEGIN:STANDARD
TZOFFSETFROM:-0400
TZOFFSETTO:-0500
TZNAME:EST
DTSTART:20251102T060000
END:STANDARD
END:VTIMEZONE
BEGIN:VEVENT
DTSTART;TZID=America/New_York:20240925T093000
DTEND;TZID=America/New_York:20240925T113000
DTSTAMP:20260420T230001
CREATED:20240916T161621Z
LAST-MODIFIED:20240917T144453Z
UID:10607-1727256600-1727263800@dswa.com
SUMMARY:Board of Directors' Retreat
DESCRIPTION:DRAFT AGENDA \n September 24\, 2024   \n Session 1 – 10:00 am – 12:00 pm \nPresentation on Landfill Design and Construction; Past\, Present and Future \nSession 2 – 1:00 pm – 2:30 pm \nRegulatory Affairs \n  \nSeptember 25\, 2024 \nSession 3- 9:30 am – 11:30 am \nBoard of Directors’ Executive Session – The Board will go into Executive Session for the purpose of discussing personnel matters in which the names\, competency and abilities of individual employees are expected to be discussed. \n 
URL:https://dswa.com/event/board-of-directors-retreat-2/
LOCATION:Seaview Hotel\, Galloway\, NJ
CATEGORIES:Board of Directors
END:VEVENT
END:VCALENDAR