BEGIN:VCALENDAR
VERSION:2.0
PRODID:-//DSWA - ECPv5.1.5//NONSGML v1.0//EN
CALSCALE:GREGORIAN
METHOD:PUBLISH
X-WR-CALNAME:DSWA
X-ORIGINAL-URL:https://dswa.com
X-WR-CALDESC:Events for DSWA
BEGIN:VTIMEZONE
TZID:America/New_York
BEGIN:DAYLIGHT
TZOFFSETFROM:-0500
TZOFFSETTO:-0400
TZNAME:EDT
DTSTART:20210314T070000
END:DAYLIGHT
BEGIN:STANDARD
TZOFFSETFROM:-0400
TZOFFSETTO:-0500
TZNAME:EST
DTSTART:20211107T060000
END:STANDARD
END:VTIMEZONE
BEGIN:VEVENT
DTSTART;TZID=America/New_York:20210106T100000
DTEND;TZID=America/New_York:20210106T140000
DTSTAMP:20210617T004404
CREATED:20200911T134219Z
LAST-MODIFIED:20200911T134219Z
UID:5751-1609927200-1609941600@dswa.com
SUMMARY:Document Shredding-Newark Recycling Center
DESCRIPTION:AVAILABLE THE 1ST WEDNESDAY OF EVERY MONTH. \nPaper Shredding- Residents can bring up to 2 file boxes of personal confidential papers for shredding (financial and legal documents\, receipts\, and tax and medical records). Papers with staples or paper clips are accepted. \nRecycling of electronics is available Monday-Saturday 8:30am-3:30pm \nAll events are restricted to Delaware residents and are held rain or shine \n
URL:https://dswa.com/event/document-shredding-newark-recycling-center/2021-01-06/
LOCATION:DSWA Newark Recycling Center\, 470 Corporate Blvd\, Newark\, DE\, 19702\, United States
END:VEVENT
END:VCALENDAR