BEGIN:VCALENDAR
VERSION:2.0
PRODID:-//DSWA - ECPv5.1.5//NONSGML v1.0//EN
CALSCALE:GREGORIAN
METHOD:PUBLISH
X-WR-CALNAME:DSWA
X-ORIGINAL-URL:https://dswa.com
X-WR-CALDESC:Events for DSWA
BEGIN:VTIMEZONE
TZID:America/New_York
BEGIN:DAYLIGHT
TZOFFSETFROM:-0500
TZOFFSETTO:-0400
TZNAME:EDT
DTSTART:20210314T070000
END:DAYLIGHT
BEGIN:STANDARD
TZOFFSETFROM:-0400
TZOFFSETTO:-0500
TZNAME:EST
DTSTART:20211107T060000
END:STANDARD
END:VTIMEZONE
BEGIN:VEVENT
DTSTART;TZID=America/New_York:20210508T080000
DTEND;TZID=America/New_York:20210508T140000
DTSTAMP:20210509T195616
CREATED:20201209T151511Z
LAST-MODIFIED:20201209T151511Z
UID:5837-1620460800-1620482400@dswa.com
SUMMARY:Collection Event- Hockessin
DESCRIPTION:Household Hazardous Waste- Product containers marked with words\, “Warning: Hazardous\,” “Flammable\,” “Poisonous\,” “Corrosive” or “Explosive.” For example; household cleaners\, garden pesticides\, oil-based paints only\, nail polish\, fluorescent bulbs\, or antifreeze. \nElectronic Goods Recycling- Electronic Equipment such as\, old computers\, printers\, CD players\, microwaves\, telephones\, televisions\, game boys\, fax machines\, answering machines\, and VCRs. \nPaper Shredding- Residents can bring up to 2 file boxes of personal confidential papers for shredding (financial and legal documents\, receipts\, and tax and medical records). Papers with staples or paper clips are accepted. \n
URL:https://dswa.com/event/collection-event-hockessin-2/
LOCATION:North Star Elementary\, 1340 Little Baltimore Road\, Hockessin\, DE\, 19707\, United States
CATEGORIES:Electronic Goods,HHW Collection,Homepage Feature,Paper Shredding
GEO:39.765692;-75.712559
X-APPLE-STRUCTURED-LOCATION;VALUE=URI;X-ADDRESS=North Star Elementary 1340 Little Baltimore Road Hockessin DE 19707 United States;X-APPLE-RADIUS=500;X-TITLE=1340 Little Baltimore Road:geo:-75.712559,39.765692
END:VEVENT
BEGIN:VEVENT
DTSTART;TZID=America/New_York:20210508T083000
DTEND;TZID=America/New_York:20210508T140000
DTSTAMP:20210509T195616
CREATED:20191211T191219Z
LAST-MODIFIED:20201209T153358Z
UID:5858-1620462600-1620482400@dswa.com
SUMMARY:Household Hazardous Waste Collection- New Castle
DESCRIPTION:Household Hazardous Waste are collected from 8:30am-2pm each Saturday. Household Hazardous Waste can include items such as household cleaners\, garden pesticides\, oil-based paint\, nail polish\, fluorescent bulbs\, and antifreeze. \nElectronics Recycling Available Monday-Friday\, 8:30am-3:30pm and Saturday 8:30am-2pm \nDocument Shredding Available the 1st Saturday of each month\, 8:30am-2pm \nStarting January 2021- Latex Paint will be collected on the LAST Saturday of each month\, 8:30am-2pm \n
URL:https://dswa.com/event/household-hazardous-waste-collection-ncc-2/2021-05-08/
LOCATION:Delaware Recycling Center\, 1101 Lambson Lane\, New Castle\, DE\, 19720\, United States
CATEGORIES:HHW Collection
GEO:39.702837;-75.5327575
X-APPLE-STRUCTURED-LOCATION;VALUE=URI;X-ADDRESS=Delaware Recycling Center 1101 Lambson Lane New Castle DE 19720 United States;X-APPLE-RADIUS=500;X-TITLE=1101 Lambson Lane:geo:-75.5327575,39.702837
END:VEVENT
END:VCALENDAR