BEGIN:VCALENDAR
VERSION:2.0
PRODID:-//DSWA - ECPv5.1.5//NONSGML v1.0//EN
CALSCALE:GREGORIAN
METHOD:PUBLISH
X-WR-CALNAME:DSWA
X-ORIGINAL-URL:https://dswa.com
X-WR-CALDESC:Events for DSWA
BEGIN:VTIMEZONE
TZID:America/New_York
BEGIN:DAYLIGHT
TZOFFSETFROM:-0500
TZOFFSETTO:-0400
TZNAME:EDT
DTSTART:20210314T070000
END:DAYLIGHT
BEGIN:STANDARD
TZOFFSETFROM:-0400
TZOFFSETTO:-0500
TZNAME:EST
DTSTART:20211107T060000
END:STANDARD
END:VTIMEZONE
BEGIN:VEVENT
DTSTART;TZID=America/New_York:20210114T170000
DTEND;TZID=America/New_York:20210114T180000
DTSTAMP:20210724T070029
CREATED:20201229T185031Z
LAST-MODIFIED:20210111T201037Z
UID:6094-1610643600-1610647200@dswa.com
SUMMARY:Administrative/Citizens Affairs Committee
DESCRIPTION:You are invited to a DSWA Zoom Webinar. \nWhen: Jan 14\, 2021 05:00 PM Eastern Time (US and Canada) \nTopic: Technical &amp; Facilities Management and Administrative &amp; Citizens’ Affairs Committee Meeting \n  \nPlease click the link below to join the webinar: \nhttps://us02web.zoom.us/j/88218202254?pwd=MDdOWVkrQ1g2RTdnVDJobW9UV213QT09 \nPasscode: 725038 \n  \nJoin by iPhone one-tap : \nUS: +13017158592\,\,88218202254#\,\,\,\,*725038#  or +13126266799\,\,88218202254#\,\,\,\,*725038# \n  \nJoin by Telephone: 1-301-715-8592 \nWebinar ID: 882 1820 2254 \nPasscode: 725038 \n  \nAGENDA \nACTION ITEMS: \nA. Administrative and Citizens’ Affairs Committee Meeting Notes – The meeting notes from the November 12\, 2020 are attached. \nBusiness & Governmental Services \n B. Request to Negotiate the Contract for the Statewide Electronic Goods Recycling \nContract S-20-837-SW –  Staff will make a recommendation to the Committee to negotiate an agreement for the Statewide Electronic Goods Recycling Program. \nINFORMATION ITEMS: \nBusiness & Governmental Services \nC. FOIA Requests – Staff will review one (1) FOIA Request. \nFinancial Services \n D. FY 2022 Budget Schedule – Staff will apprise the Committee on the FY 2022 Budget Schedule. \n E. Committee’s Audit Review of Internal Management – Revenue/Cost Results for the Month \n a. Statement of Revenue & Expense \nb. Bank Fund Balance \nc. Aging Summary Report \n  \n
URL:https://dswa.com/event/administrative-citizens-affairs-committee-14/
LOCATION:Zoom Webinar
CATEGORIES:Administrative/Citizens' Affairs Committee
END:VEVENT
BEGIN:VEVENT
DTSTART;TZID=America/New_York:20210114T170000
DTEND;TZID=America/New_York:20210114T180000
DTSTAMP:20210724T070029
CREATED:20201229T185230Z
LAST-MODIFIED:20210111T201609Z
UID:6100-1610643600-1610647200@dswa.com
SUMMARY:Technical Affairs & Facilities Mgt. Committee
DESCRIPTION:You are invited to a DSWA Zoom Webinar. \nWhen: Jan 14\, 2021 05:00 PM Eastern Time (US and Canada) \nTopic: Technical &amp; Facilities Management and Administrative &amp; Citizens’ Affairs Committee Meeting \n  \nPlease click the link below to join the webinar: \nhttps://us02web.zoom.us/j/88218202254?pwd=MDdOWVkrQ1g2RTdnVDJobW9UV213QT09 \nPasscode: 725038 \n  \nJoin by iPhone one-tap : \nUS: +13017158592\,\,88218202254#\,\,\,\,*725038#  or +13126266799\,\,88218202254#\,\,\,\,*725038# \n  \nJoin by Telephone: 1-301-715-8592 \nWebinar ID: 882 1820 2254 \nPasscode: 725038 \n  \n  \nAGENDA \nA. Technical & Facilities Management Committee Meeting Notes  –  The meeting notes from the November 12\, 2020\, meeting are attached. \n ACTION: \n B. Construction of Dover Administrative Office – Contract C-19-818-DO –  Staff will make a recommendation concerning the construction of the new Dover Administrative             Office. \nC. Supply of Cover Soil to the Central Solid Waste Management Center (CSWMC) –  \n            Contract F-20-836-CS –  Staff will make a recommendation concerning the supply of cover soil to the CSWMC. \n INFORMATION: \n D. Project Status Update – Staff will review the monthly project status report. \nE. Upcoming Projects Report –   Staff will review the monthly upcoming projects report. \n
URL:https://dswa.com/event/technical-affairs-facilities-mgt-committee-15/
LOCATION:Zoom Webinar
CATEGORIES:Technical and Facilities Mgt Committee
END:VEVENT
END:VCALENDAR