BEGIN:VCALENDAR
VERSION:2.0
PRODID:-//DSWA - ECPv5.1.5//NONSGML v1.0//EN
CALSCALE:GREGORIAN
METHOD:PUBLISH
X-WR-CALNAME:DSWA
X-ORIGINAL-URL:https://dswa.com
X-WR-CALDESC:Events for DSWA
BEGIN:VTIMEZONE
TZID:America/New_York
BEGIN:DAYLIGHT
TZOFFSETFROM:-0500
TZOFFSETTO:-0400
TZNAME:EDT
DTSTART:20210314T070000
END:DAYLIGHT
BEGIN:STANDARD
TZOFFSETFROM:-0400
TZOFFSETTO:-0500
TZNAME:EST
DTSTART:20211107T060000
END:STANDARD
END:VTIMEZONE
BEGIN:VEVENT
DTSTART;TZID=America/New_York:20210128T170000
DTEND;TZID=America/New_York:20210128T190000
DTSTAMP:20210724T070040
CREATED:20201229T185426Z
LAST-MODIFIED:20210126T164814Z
UID:6106-1611853200-1611860400@dswa.com
SUMMARY:Board of Directors Meeting
DESCRIPTION:\n\nYou are invited to a DSWA Zoom Webinar.\n\nWhen: Jan 28\, 2021 05:00 PM Eastern Time (US and Canada)\nTopic: DSWA Board Meeting\n\nPlease click the link below to join the webinar:\nhttps://us02web.zoom.us/j/81864714347?pwd=dTNLWkVXWXRsT1lEOWpoL2Nodmw2UT09\nPasscode: 477521\n\nJoin by iPhone one-tap :\n    US: +13126266799\,\,81864714347#\,\,\,\,*477521#  or +19292056099\,\,81864714347#\,\,\,\,*477521#\n\nJoin by Telephone: 1-301-715-8592\nWebinar ID: 818 6471 4347\nPasscode: 477521\n\n\n\nAGENDA \nA. MINUTES – The minutes of the December 17\, 2020\, Board of Directors meeting of the Delaware Solid Waste Authority require approval. \n Report of the Technical & Facilities Management Committee \n B. CONSTRUCTION OF DOVER ADMINISTRATION BUILDING – The Committee recommends the Board award the contract for the Construction of the Dover Administration Building to EDiS Company as the low bidder. \n NEW BUSINESS \nPUBLIC COMMENT \n\n
URL:https://dswa.com/event/board-of-directors-meeting-22/
LOCATION:DSWA Administration Building\, 1128 S. Bradford Street\, Dover\, DE\, 19904\, United States
CATEGORIES:Board of Directors,Public Meetings
GEO:39.14236;-75.524484
X-APPLE-STRUCTURED-LOCATION;VALUE=URI;X-ADDRESS=DSWA Administration Building 1128 S. Bradford Street Dover DE 19904 United States;X-APPLE-RADIUS=500;X-TITLE=1128 S. Bradford Street:geo:-75.524484,39.14236
END:VEVENT
END:VCALENDAR