BEGIN:VCALENDAR
VERSION:2.0
PRODID:-//DSWA - ECPv6.15.20//NONSGML v1.0//EN
CALSCALE:GREGORIAN
METHOD:PUBLISH
X-WR-CALNAME:DSWA
X-ORIGINAL-URL:https://dswa.com
X-WR-CALDESC:Events for DSWA
REFRESH-INTERVAL;VALUE=DURATION:PT1H
X-Robots-Tag:noindex
X-PUBLISHED-TTL:PT1H
BEGIN:VTIMEZONE
TZID:America/New_York
BEGIN:DAYLIGHT
TZOFFSETFROM:-0500
TZOFFSETTO:-0400
TZNAME:EDT
DTSTART:20270314T070000
END:DAYLIGHT
BEGIN:STANDARD
TZOFFSETFROM:-0400
TZOFFSETTO:-0500
TZNAME:EST
DTSTART:20271107T060000
END:STANDARD
BEGIN:DAYLIGHT
TZOFFSETFROM:-0500
TZOFFSETTO:-0400
TZNAME:EDT
DTSTART:20280312T070000
END:DAYLIGHT
BEGIN:STANDARD
TZOFFSETFROM:-0400
TZOFFSETTO:-0500
TZNAME:EST
DTSTART:20281105T060000
END:STANDARD
BEGIN:DAYLIGHT
TZOFFSETFROM:-0500
TZOFFSETTO:-0400
TZNAME:EDT
DTSTART:20290311T070000
END:DAYLIGHT
BEGIN:STANDARD
TZOFFSETFROM:-0400
TZOFFSETTO:-0500
TZNAME:EST
DTSTART:20291104T060000
END:STANDARD
END:VTIMEZONE
BEGIN:VEVENT
DTSTART;TZID=America/New_York:20281101T100000
DTEND;TZID=America/New_York:20281101T140000
DTSTAMP:20260425T220858
CREATED:20230505T005124Z
LAST-MODIFIED:20241210T133952Z
UID:10087219-1856685600-1856700000@dswa.com
SUMMARY:Household Hazardous Waste Collection- Newark Recycling Center
DESCRIPTION:Household Hazardous Waste are collected from 10am-2pm. Household Hazardous Waste can include items such as household cleaners\, garden pesticides\, oil-based paint\, nail polish\, fluorescent bulbs\, and antifreeze. \nElectronics Recycling Available Monday-Saturday\, 8:30am-3:30pm \nDocument Shredding Available the 1st Wednesday of each month\, 10am-2pm \nNO LATEX PAINT\nLatex Paint is collected on the LAST Wednesday of each month\, 10am-2pm
URL:https://dswa.com/event/household-hazardous-waste-collection-newark-recycling-center/2028-11-01/
LOCATION:DSWA Newark Recycling Center\, 470 Corporate Blvd\, Newark\, DE\, 19702\, United States
CATEGORIES:HHW Collection
END:VEVENT
BEGIN:VEVENT
DTSTART;TZID=America/New_York:20281103T100000
DTEND;TZID=America/New_York:20281103T140000
DTSTAMP:20260425T220858
CREATED:20250521T134737Z
LAST-MODIFIED:20250627T135940Z
UID:10087848-1856858400-1856872800@dswa.com
SUMMARY:Household Hazardous Waste Collection- Cheswold Collection Station
DESCRIPTION:Household Hazardous Waste are collected from 10am-2pm. Household Hazardous Waste can include items such as household cleaners\, garden pesticides\, oil-based paint\, nail polish\, fluorescent bulbs\, and antifreeze. \nElectronics Recycling Available Monday-Saturday\, 8:30am-3:30pm \nDocument Shredding Available the 1st Friday of each month\, 10am-2pm \nNO LATEX PAINT\nLatex Paint is collected on the LAST Friday of each month\, 8:30am-2pm
URL:https://dswa.com/event/household-hazardous-waste-collection-cheswold-collection-station-2/2028-11-03/
LOCATION:Cheswold Collection Station\, 54 Fork Branch Rd\, Cheswold\, DE\, 19936\, United States
CATEGORIES:HHW Collection
GEO:39.2023153;-75.5717636
X-APPLE-STRUCTURED-LOCATION;VALUE=URI;X-ADDRESS=Cheswold Collection Station 54 Fork Branch Rd Cheswold DE 19936 United States;X-APPLE-RADIUS=500;X-TITLE=54 Fork Branch Rd:geo:-75.5717636,39.2023153
END:VEVENT
BEGIN:VEVENT
DTSTART;TZID=America/New_York:20281104T083000
DTEND;TZID=America/New_York:20281104T140000
DTSTAMP:20260425T220858
CREATED:20250521T141844Z
LAST-MODIFIED:20250521T141844Z
UID:10088232-1856939400-1856959200@dswa.com
SUMMARY:Household Hazardous Waste Collection- Delaware Recycling Center
DESCRIPTION:Household Hazardous Waste are collected from 10am-2pm. Household Hazardous Waste can include items such as household cleaners\, garden pesticides\, oil-based paint\, nail polish\, fluorescent bulbs\, and antifreeze. \nElectronics Recycling Available Monday-Saturday\, 8:30am-3:30pm \nDocument Shredding Available the 1st Friday of each month\, 10am-2pm \nNO LATEX PAINT\nLatex Paint is collected on the LAST Saturday of each month\, 8:30am-2pm
URL:https://dswa.com/event/household-hazardous-waste-collection-delaware-recycling-center-2/2028-11-04/
LOCATION:Delaware Recycling Center\, 1101 Lambson Lane\, New Castle\, DE\, 19720\, United States
CATEGORIES:HHW Collection
GEO:39.702837;-75.5327575
X-APPLE-STRUCTURED-LOCATION;VALUE=URI;X-ADDRESS=Delaware Recycling Center 1101 Lambson Lane New Castle DE 19720 United States;X-APPLE-RADIUS=500;X-TITLE=1101 Lambson Lane:geo:-75.5327575,39.702837
END:VEVENT
BEGIN:VEVENT
DTSTART;TZID=America/New_York:20281106T100000
DTEND;TZID=America/New_York:20281106T140000
DTSTAMP:20260425T220858
CREATED:20240806T232042Z
LAST-MODIFIED:20250812T185650Z
UID:10086785-1857117600-1857132000@dswa.com
SUMMARY:Household Hazardous Waste Collection- Southern Recycling Center (Jones Crossroads Landfill)
DESCRIPTION:Household Hazardous Waste are collected from 10am-2pm. Household Hazardous Waste can include items such as household cleaners\, garden pesticides\, oil-based paint\, nail polish\, fluorescent bulbs\, and antifreeze. \nElectronics Recycling Available Monday-Saturday\, 8:30am-3:30pm \nDocument Shredding Available the 1st Monday of each month\, 10am-2pm \nNO LATEX PAINT\nLatex Paint is collected on the LAST Monday of each month\, 10am-2pm
URL:https://dswa.com/event/household-hazardous-waste-collection-southern-recycling-center-jones-crossroads-landfill-2-2-2/2028-11-06/
LOCATION:Jones Crossroads Landfill\, 28560 Landfill Lane\, Georgetown\, DE\, 19947\, United States
CATEGORIES:HHW Collection
GEO:38.5946633;-75.4364622
X-APPLE-STRUCTURED-LOCATION;VALUE=URI;X-ADDRESS=Jones Crossroads Landfill 28560 Landfill Lane Georgetown DE 19947 United States;X-APPLE-RADIUS=500;X-TITLE=28560 Landfill Lane:geo:-75.4364622,38.5946633
END:VEVENT
BEGIN:VEVENT
DTSTART;TZID=America/New_York:20281108T100000
DTEND;TZID=America/New_York:20281108T140000
DTSTAMP:20260425T220858
CREATED:20230505T005124Z
LAST-MODIFIED:20241210T133952Z
UID:10087220-1857290400-1857304800@dswa.com
SUMMARY:Household Hazardous Waste Collection- Newark Recycling Center
DESCRIPTION:Household Hazardous Waste are collected from 10am-2pm. Household Hazardous Waste can include items such as household cleaners\, garden pesticides\, oil-based paint\, nail polish\, fluorescent bulbs\, and antifreeze. \nElectronics Recycling Available Monday-Saturday\, 8:30am-3:30pm \nDocument Shredding Available the 1st Wednesday of each month\, 10am-2pm \nNO LATEX PAINT\nLatex Paint is collected on the LAST Wednesday of each month\, 10am-2pm
URL:https://dswa.com/event/household-hazardous-waste-collection-newark-recycling-center/2028-11-08/
LOCATION:DSWA Newark Recycling Center\, 470 Corporate Blvd\, Newark\, DE\, 19702\, United States
CATEGORIES:HHW Collection
END:VEVENT
BEGIN:VEVENT
DTSTART;TZID=America/New_York:20281110T100000
DTEND;TZID=America/New_York:20281110T140000
DTSTAMP:20260425T220858
CREATED:20250521T134737Z
LAST-MODIFIED:20250627T135940Z
UID:10087849-1857463200-1857477600@dswa.com
SUMMARY:Household Hazardous Waste Collection- Cheswold Collection Station
DESCRIPTION:Household Hazardous Waste are collected from 10am-2pm. Household Hazardous Waste can include items such as household cleaners\, garden pesticides\, oil-based paint\, nail polish\, fluorescent bulbs\, and antifreeze. \nElectronics Recycling Available Monday-Saturday\, 8:30am-3:30pm \nDocument Shredding Available the 1st Friday of each month\, 10am-2pm \nNO LATEX PAINT\nLatex Paint is collected on the LAST Friday of each month\, 8:30am-2pm
URL:https://dswa.com/event/household-hazardous-waste-collection-cheswold-collection-station-2/2028-11-10/
LOCATION:Cheswold Collection Station\, 54 Fork Branch Rd\, Cheswold\, DE\, 19936\, United States
CATEGORIES:HHW Collection
GEO:39.2023153;-75.5717636
X-APPLE-STRUCTURED-LOCATION;VALUE=URI;X-ADDRESS=Cheswold Collection Station 54 Fork Branch Rd Cheswold DE 19936 United States;X-APPLE-RADIUS=500;X-TITLE=54 Fork Branch Rd:geo:-75.5717636,39.2023153
END:VEVENT
BEGIN:VEVENT
DTSTART;TZID=America/New_York:20281111T083000
DTEND;TZID=America/New_York:20281111T140000
DTSTAMP:20260425T220858
CREATED:20250521T141844Z
LAST-MODIFIED:20250521T141844Z
UID:10088233-1857544200-1857564000@dswa.com
SUMMARY:Household Hazardous Waste Collection- Delaware Recycling Center
DESCRIPTION:Household Hazardous Waste are collected from 10am-2pm. Household Hazardous Waste can include items such as household cleaners\, garden pesticides\, oil-based paint\, nail polish\, fluorescent bulbs\, and antifreeze. \nElectronics Recycling Available Monday-Saturday\, 8:30am-3:30pm \nDocument Shredding Available the 1st Friday of each month\, 10am-2pm \nNO LATEX PAINT\nLatex Paint is collected on the LAST Saturday of each month\, 8:30am-2pm
URL:https://dswa.com/event/household-hazardous-waste-collection-delaware-recycling-center-2/2028-11-11/
LOCATION:Delaware Recycling Center\, 1101 Lambson Lane\, New Castle\, DE\, 19720\, United States
CATEGORIES:HHW Collection
GEO:39.702837;-75.5327575
X-APPLE-STRUCTURED-LOCATION;VALUE=URI;X-ADDRESS=Delaware Recycling Center 1101 Lambson Lane New Castle DE 19720 United States;X-APPLE-RADIUS=500;X-TITLE=1101 Lambson Lane:geo:-75.5327575,39.702837
END:VEVENT
BEGIN:VEVENT
DTSTART;TZID=America/New_York:20281113T100000
DTEND;TZID=America/New_York:20281113T140000
DTSTAMP:20260425T220858
CREATED:20240806T232042Z
LAST-MODIFIED:20250812T185650Z
UID:10086907-1857722400-1857736800@dswa.com
SUMMARY:Household Hazardous Waste Collection- Southern Recycling Center (Jones Crossroads Landfill)
DESCRIPTION:Household Hazardous Waste are collected from 10am-2pm. Household Hazardous Waste can include items such as household cleaners\, garden pesticides\, oil-based paint\, nail polish\, fluorescent bulbs\, and antifreeze. \nElectronics Recycling Available Monday-Saturday\, 8:30am-3:30pm \nDocument Shredding Available the 1st Monday of each month\, 10am-2pm \nNO LATEX PAINT\nLatex Paint is collected on the LAST Monday of each month\, 10am-2pm
URL:https://dswa.com/event/household-hazardous-waste-collection-southern-recycling-center-jones-crossroads-landfill-2-2-2/2028-11-13/
LOCATION:Jones Crossroads Landfill\, 28560 Landfill Lane\, Georgetown\, DE\, 19947\, United States
CATEGORIES:HHW Collection
GEO:38.5946633;-75.4364622
X-APPLE-STRUCTURED-LOCATION;VALUE=URI;X-ADDRESS=Jones Crossroads Landfill 28560 Landfill Lane Georgetown DE 19947 United States;X-APPLE-RADIUS=500;X-TITLE=28560 Landfill Lane:geo:-75.4364622,38.5946633
END:VEVENT
BEGIN:VEVENT
DTSTART;TZID=America/New_York:20281115T100000
DTEND;TZID=America/New_York:20281115T140000
DTSTAMP:20260425T220858
CREATED:20230505T005124Z
LAST-MODIFIED:20241210T133952Z
UID:10087221-1857895200-1857909600@dswa.com
SUMMARY:Household Hazardous Waste Collection- Newark Recycling Center
DESCRIPTION:Household Hazardous Waste are collected from 10am-2pm. Household Hazardous Waste can include items such as household cleaners\, garden pesticides\, oil-based paint\, nail polish\, fluorescent bulbs\, and antifreeze. \nElectronics Recycling Available Monday-Saturday\, 8:30am-3:30pm \nDocument Shredding Available the 1st Wednesday of each month\, 10am-2pm \nNO LATEX PAINT\nLatex Paint is collected on the LAST Wednesday of each month\, 10am-2pm
URL:https://dswa.com/event/household-hazardous-waste-collection-newark-recycling-center/2028-11-15/
LOCATION:DSWA Newark Recycling Center\, 470 Corporate Blvd\, Newark\, DE\, 19702\, United States
CATEGORIES:HHW Collection
END:VEVENT
BEGIN:VEVENT
DTSTART;TZID=America/New_York:20281117T100000
DTEND;TZID=America/New_York:20281117T140000
DTSTAMP:20260425T220858
CREATED:20250521T134737Z
LAST-MODIFIED:20250627T135940Z
UID:10087850-1858068000-1858082400@dswa.com
SUMMARY:Household Hazardous Waste Collection- Cheswold Collection Station
DESCRIPTION:Household Hazardous Waste are collected from 10am-2pm. Household Hazardous Waste can include items such as household cleaners\, garden pesticides\, oil-based paint\, nail polish\, fluorescent bulbs\, and antifreeze. \nElectronics Recycling Available Monday-Saturday\, 8:30am-3:30pm \nDocument Shredding Available the 1st Friday of each month\, 10am-2pm \nNO LATEX PAINT\nLatex Paint is collected on the LAST Friday of each month\, 8:30am-2pm
URL:https://dswa.com/event/household-hazardous-waste-collection-cheswold-collection-station-2/2028-11-17/
LOCATION:Cheswold Collection Station\, 54 Fork Branch Rd\, Cheswold\, DE\, 19936\, United States
CATEGORIES:HHW Collection
GEO:39.2023153;-75.5717636
X-APPLE-STRUCTURED-LOCATION;VALUE=URI;X-ADDRESS=Cheswold Collection Station 54 Fork Branch Rd Cheswold DE 19936 United States;X-APPLE-RADIUS=500;X-TITLE=54 Fork Branch Rd:geo:-75.5717636,39.2023153
END:VEVENT
BEGIN:VEVENT
DTSTART;TZID=America/New_York:20281118T083000
DTEND;TZID=America/New_York:20281118T140000
DTSTAMP:20260425T220858
CREATED:20250521T141844Z
LAST-MODIFIED:20250521T141844Z
UID:10088234-1858149000-1858168800@dswa.com
SUMMARY:Household Hazardous Waste Collection- Delaware Recycling Center
DESCRIPTION:Household Hazardous Waste are collected from 10am-2pm. Household Hazardous Waste can include items such as household cleaners\, garden pesticides\, oil-based paint\, nail polish\, fluorescent bulbs\, and antifreeze. \nElectronics Recycling Available Monday-Saturday\, 8:30am-3:30pm \nDocument Shredding Available the 1st Friday of each month\, 10am-2pm \nNO LATEX PAINT\nLatex Paint is collected on the LAST Saturday of each month\, 8:30am-2pm
URL:https://dswa.com/event/household-hazardous-waste-collection-delaware-recycling-center-2/2028-11-18/
LOCATION:Delaware Recycling Center\, 1101 Lambson Lane\, New Castle\, DE\, 19720\, United States
CATEGORIES:HHW Collection
GEO:39.702837;-75.5327575
X-APPLE-STRUCTURED-LOCATION;VALUE=URI;X-ADDRESS=Delaware Recycling Center 1101 Lambson Lane New Castle DE 19720 United States;X-APPLE-RADIUS=500;X-TITLE=1101 Lambson Lane:geo:-75.5327575,39.702837
END:VEVENT
BEGIN:VEVENT
DTSTART;TZID=America/New_York:20281120T100000
DTEND;TZID=America/New_York:20281120T140000
DTSTAMP:20260425T220858
CREATED:20240806T232042Z
LAST-MODIFIED:20250812T185650Z
UID:10086908-1858327200-1858341600@dswa.com
SUMMARY:Household Hazardous Waste Collection- Southern Recycling Center (Jones Crossroads Landfill)
DESCRIPTION:Household Hazardous Waste are collected from 10am-2pm. Household Hazardous Waste can include items such as household cleaners\, garden pesticides\, oil-based paint\, nail polish\, fluorescent bulbs\, and antifreeze. \nElectronics Recycling Available Monday-Saturday\, 8:30am-3:30pm \nDocument Shredding Available the 1st Monday of each month\, 10am-2pm \nNO LATEX PAINT\nLatex Paint is collected on the LAST Monday of each month\, 10am-2pm
URL:https://dswa.com/event/household-hazardous-waste-collection-southern-recycling-center-jones-crossroads-landfill-2-2-2/2028-11-20/
LOCATION:Jones Crossroads Landfill\, 28560 Landfill Lane\, Georgetown\, DE\, 19947\, United States
CATEGORIES:HHW Collection
GEO:38.5946633;-75.4364622
X-APPLE-STRUCTURED-LOCATION;VALUE=URI;X-ADDRESS=Jones Crossroads Landfill 28560 Landfill Lane Georgetown DE 19947 United States;X-APPLE-RADIUS=500;X-TITLE=28560 Landfill Lane:geo:-75.4364622,38.5946633
END:VEVENT
BEGIN:VEVENT
DTSTART;TZID=America/New_York:20281122T100000
DTEND;TZID=America/New_York:20281122T140000
DTSTAMP:20260425T220858
CREATED:20230505T005124Z
LAST-MODIFIED:20241210T133952Z
UID:10087222-1858500000-1858514400@dswa.com
SUMMARY:Household Hazardous Waste Collection- Newark Recycling Center
DESCRIPTION:Household Hazardous Waste are collected from 10am-2pm. Household Hazardous Waste can include items such as household cleaners\, garden pesticides\, oil-based paint\, nail polish\, fluorescent bulbs\, and antifreeze. \nElectronics Recycling Available Monday-Saturday\, 8:30am-3:30pm \nDocument Shredding Available the 1st Wednesday of each month\, 10am-2pm \nNO LATEX PAINT\nLatex Paint is collected on the LAST Wednesday of each month\, 10am-2pm
URL:https://dswa.com/event/household-hazardous-waste-collection-newark-recycling-center/2028-11-22/
LOCATION:DSWA Newark Recycling Center\, 470 Corporate Blvd\, Newark\, DE\, 19702\, United States
CATEGORIES:HHW Collection
END:VEVENT
BEGIN:VEVENT
DTSTART;TZID=America/New_York:20281124T100000
DTEND;TZID=America/New_York:20281124T140000
DTSTAMP:20260425T220858
CREATED:20250521T134737Z
LAST-MODIFIED:20250627T135940Z
UID:10087851-1858672800-1858687200@dswa.com
SUMMARY:Household Hazardous Waste Collection- Cheswold Collection Station
DESCRIPTION:Household Hazardous Waste are collected from 10am-2pm. Household Hazardous Waste can include items such as household cleaners\, garden pesticides\, oil-based paint\, nail polish\, fluorescent bulbs\, and antifreeze. \nElectronics Recycling Available Monday-Saturday\, 8:30am-3:30pm \nDocument Shredding Available the 1st Friday of each month\, 10am-2pm \nNO LATEX PAINT\nLatex Paint is collected on the LAST Friday of each month\, 8:30am-2pm
URL:https://dswa.com/event/household-hazardous-waste-collection-cheswold-collection-station-2/2028-11-24/
LOCATION:Cheswold Collection Station\, 54 Fork Branch Rd\, Cheswold\, DE\, 19936\, United States
CATEGORIES:HHW Collection
GEO:39.2023153;-75.5717636
X-APPLE-STRUCTURED-LOCATION;VALUE=URI;X-ADDRESS=Cheswold Collection Station 54 Fork Branch Rd Cheswold DE 19936 United States;X-APPLE-RADIUS=500;X-TITLE=54 Fork Branch Rd:geo:-75.5717636,39.2023153
END:VEVENT
BEGIN:VEVENT
DTSTART;TZID=America/New_York:20281125T083000
DTEND;TZID=America/New_York:20281125T140000
DTSTAMP:20260425T220858
CREATED:20250521T141844Z
LAST-MODIFIED:20250521T141844Z
UID:10088235-1858753800-1858773600@dswa.com
SUMMARY:Household Hazardous Waste Collection- Delaware Recycling Center
DESCRIPTION:Household Hazardous Waste are collected from 10am-2pm. Household Hazardous Waste can include items such as household cleaners\, garden pesticides\, oil-based paint\, nail polish\, fluorescent bulbs\, and antifreeze. \nElectronics Recycling Available Monday-Saturday\, 8:30am-3:30pm \nDocument Shredding Available the 1st Friday of each month\, 10am-2pm \nNO LATEX PAINT\nLatex Paint is collected on the LAST Saturday of each month\, 8:30am-2pm
URL:https://dswa.com/event/household-hazardous-waste-collection-delaware-recycling-center-2/2028-11-25/
LOCATION:Delaware Recycling Center\, 1101 Lambson Lane\, New Castle\, DE\, 19720\, United States
CATEGORIES:HHW Collection
GEO:39.702837;-75.5327575
X-APPLE-STRUCTURED-LOCATION;VALUE=URI;X-ADDRESS=Delaware Recycling Center 1101 Lambson Lane New Castle DE 19720 United States;X-APPLE-RADIUS=500;X-TITLE=1101 Lambson Lane:geo:-75.5327575,39.702837
END:VEVENT
BEGIN:VEVENT
DTSTART;TZID=America/New_York:20281127T100000
DTEND;TZID=America/New_York:20281127T140000
DTSTAMP:20260425T220858
CREATED:20240806T232042Z
LAST-MODIFIED:20250812T185650Z
UID:10086909-1858932000-1858946400@dswa.com
SUMMARY:Household Hazardous Waste Collection- Southern Recycling Center (Jones Crossroads Landfill)
DESCRIPTION:Household Hazardous Waste are collected from 10am-2pm. Household Hazardous Waste can include items such as household cleaners\, garden pesticides\, oil-based paint\, nail polish\, fluorescent bulbs\, and antifreeze. \nElectronics Recycling Available Monday-Saturday\, 8:30am-3:30pm \nDocument Shredding Available the 1st Monday of each month\, 10am-2pm \nNO LATEX PAINT\nLatex Paint is collected on the LAST Monday of each month\, 10am-2pm
URL:https://dswa.com/event/household-hazardous-waste-collection-southern-recycling-center-jones-crossroads-landfill-2-2-2/2028-11-27/
LOCATION:Jones Crossroads Landfill\, 28560 Landfill Lane\, Georgetown\, DE\, 19947\, United States
CATEGORIES:HHW Collection
GEO:38.5946633;-75.4364622
X-APPLE-STRUCTURED-LOCATION;VALUE=URI;X-ADDRESS=Jones Crossroads Landfill 28560 Landfill Lane Georgetown DE 19947 United States;X-APPLE-RADIUS=500;X-TITLE=28560 Landfill Lane:geo:-75.4364622,38.5946633
END:VEVENT
BEGIN:VEVENT
DTSTART;TZID=America/New_York:20281129T100000
DTEND;TZID=America/New_York:20281129T140000
DTSTAMP:20260425T220858
CREATED:20230505T005124Z
LAST-MODIFIED:20241210T133952Z
UID:10087223-1859104800-1859119200@dswa.com
SUMMARY:Household Hazardous Waste Collection- Newark Recycling Center
DESCRIPTION:Household Hazardous Waste are collected from 10am-2pm. Household Hazardous Waste can include items such as household cleaners\, garden pesticides\, oil-based paint\, nail polish\, fluorescent bulbs\, and antifreeze. \nElectronics Recycling Available Monday-Saturday\, 8:30am-3:30pm \nDocument Shredding Available the 1st Wednesday of each month\, 10am-2pm \nNO LATEX PAINT\nLatex Paint is collected on the LAST Wednesday of each month\, 10am-2pm
URL:https://dswa.com/event/household-hazardous-waste-collection-newark-recycling-center/2028-11-29/
LOCATION:DSWA Newark Recycling Center\, 470 Corporate Blvd\, Newark\, DE\, 19702\, United States
CATEGORIES:HHW Collection
END:VEVENT
END:VCALENDAR