BEGIN:VCALENDAR
VERSION:2.0
PRODID:-//DSWA - ECPv5.1.5//NONSGML v1.0//EN
CALSCALE:GREGORIAN
METHOD:PUBLISH
X-WR-CALNAME:DSWA
X-ORIGINAL-URL:https://dswa.com
X-WR-CALDESC:Events for DSWA
BEGIN:VTIMEZONE
TZID:America/New_York
BEGIN:DAYLIGHT
TZOFFSETFROM:-0500
TZOFFSETTO:-0400
TZNAME:EDT
DTSTART:20210314T070000
END:DAYLIGHT
BEGIN:STANDARD
TZOFFSETFROM:-0400
TZOFFSETTO:-0500
TZNAME:EST
DTSTART:20211107T060000
END:STANDARD
END:VTIMEZONE
BEGIN:VEVENT
DTSTART;TZID=America/New_York:20211002T083000
DTEND;TZID=America/New_York:20211002T140000
DTSTAMP:20211004T100801
CREATED:20171012T163646Z
LAST-MODIFIED:20210805T155906Z
UID:5496-1633163400-1633183200@dswa.com
SUMMARY:Document Shredding- New Castle
DESCRIPTION:AVAILABLE THE FIRST SATURDAY OF EACH MONTH \n  \nPaper Shredding- Residents can bring up to 2 file boxes of personal confidential papers for shredding (financial and legal documents\, receipts\, and tax and medical records). Papers with staples or paper clips are accepted. \nRecycling of electronics is available Monday-Friday 8:30am-3:30pm and Saturday 8:30pm-2pm at the Delaware Recycling Center \nAll events are restricted to Delaware residents and are held rain or shine \n
URL:https://dswa.com/event/household-hazardous-wastepaper-shredding/2021-10-02/
LOCATION:Delaware Recycling Center\, 1101 Lambson Lane\, New Castle\, DE\, 19720\, United States
CATEGORIES:Paper Shredding
GEO:39.702837;-75.5327575
X-APPLE-STRUCTURED-LOCATION;VALUE=URI;X-ADDRESS=Delaware Recycling Center 1101 Lambson Lane New Castle DE 19720 United States;X-APPLE-RADIUS=500;X-TITLE=1101 Lambson Lane:geo:-75.5327575,39.702837
END:VEVENT
END:VCALENDAR