BEGIN:VCALENDAR
VERSION:2.0
PRODID:-//DSWA - ECPv5.1.5//NONSGML v1.0//EN
CALSCALE:GREGORIAN
METHOD:PUBLISH
X-WR-CALNAME:DSWA
X-ORIGINAL-URL:https://dswa.com
X-WR-CALDESC:Events for DSWA
BEGIN:VTIMEZONE
TZID:America/New_York
BEGIN:DAYLIGHT
TZOFFSETFROM:-0500
TZOFFSETTO:-0400
TZNAME:EDT
DTSTART:20210314T070000
END:DAYLIGHT
BEGIN:STANDARD
TZOFFSETFROM:-0400
TZOFFSETTO:-0500
TZNAME:EST
DTSTART:20211107T060000
END:STANDARD
END:VTIMEZONE
BEGIN:VEVENT
DTSTART;TZID=America/New_York:20210125T160000
DTEND;TZID=America/New_York:20210125T190000
DTSTAMP:20210724T162823
CREATED:20210113T235146Z
LAST-MODIFIED:20210113T235219Z
UID:6130-1611590400-1611601200@dswa.com
SUMMARY:Statewide Solid Waste Management Plan Public Hearing
DESCRIPTION:The DELAWARE SOLID WASTE AUTHORITY\, hereby gives notice that a VIRTUAL PUBLIC HEARING will be held on January 25\, 2021\, prevailing Eastern Time\, (the “Hearing”).  Join the Zoom meeting at:  \nWhen: January 25\, 2021 04:00 PM Eastern Time (US and Canada) \nTopic: Hearing for Changes to the Statewide Solid Waste Management Plan \nPlease click the link below to join the webinar: \nhttps://us02web.zoom.us/j/83566671572?pwd=S1ducmYwRjJZSC9zRFRTQmVreE9XZz09 \nPasscode: 379487 \n Join by iPhone one-tap : US: +13126266799\,\,83566671572#\,\,\,\,\,\,0#\,\,379487#  or +19292056099\,\,83566671572#\,\,\,\,\,\,0#\,\,379487#  \n  \nJoin by Telephone: \nDial:  1-301-715-8592   \nWebinar ID: 835 6667 1572 \nPasscode: 379487 \nThe purpose of the Hearing is to address the proposed adoption of a Statewide Solid Waste Management Plan pursuant to 7 Del. C. §6401(c)(6).  Written comments shall be submitted to Michael D. Parkowski\, Manager of Business Services and Government Relations\, Delaware Solid Waste Authority\, 1128 South Bradford Street\, Dover\, Delaware 19904.  Written comments may also be submitted via e-mail at MDP@DSWA.com.  Also\, those intending to provide oral comments at the Hearing must notify Mr. Parkowski at (302)739-5361 or MDP@DSWA.com\, no later than 4:30 p.m. on February 9\, 2021.  The proposed Statewide Solid Waste Management Plan can be found here: http://dswa.com/news/reports/  Interested persons may obtain a copy of the proposed Statewide Solid Waste Management Plan by contacting Mr. Parkowski at the phone number and/or e-mail address set forth above. \n
URL:https://dswa.com/event/statewide-solid-waste-management-plan-public-hearing/
CATEGORIES:Homepage Feature,Public Meetings
END:VEVENT
END:VCALENDAR