BEGIN:VCALENDAR
VERSION:2.0
PRODID:-//DSWA - ECPv6.15.20//NONSGML v1.0//EN
CALSCALE:GREGORIAN
METHOD:PUBLISH
X-ORIGINAL-URL:https://dswa.com
X-WR-CALDESC:Events for DSWA
REFRESH-INTERVAL;VALUE=DURATION:PT1H
X-Robots-Tag:noindex
X-PUBLISHED-TTL:PT1H
BEGIN:VTIMEZONE
TZID:America/New_York
BEGIN:DAYLIGHT
TZOFFSETFROM:-0500
TZOFFSETTO:-0400
TZNAME:EDT
DTSTART:20220313T070000
END:DAYLIGHT
BEGIN:STANDARD
TZOFFSETFROM:-0400
TZOFFSETTO:-0500
TZNAME:EST
DTSTART:20221106T060000
END:STANDARD
BEGIN:DAYLIGHT
TZOFFSETFROM:-0500
TZOFFSETTO:-0400
TZNAME:EDT
DTSTART:20230312T070000
END:DAYLIGHT
BEGIN:STANDARD
TZOFFSETFROM:-0400
TZOFFSETTO:-0500
TZNAME:EST
DTSTART:20231105T060000
END:STANDARD
BEGIN:DAYLIGHT
TZOFFSETFROM:-0500
TZOFFSETTO:-0400
TZNAME:EDT
DTSTART:20240310T070000
END:DAYLIGHT
BEGIN:STANDARD
TZOFFSETFROM:-0400
TZOFFSETTO:-0500
TZNAME:EST
DTSTART:20241103T060000
END:STANDARD
END:VTIMEZONE
BEGIN:VEVENT
DTSTART;TZID=America/New_York:20230203T100000
DTEND;TZID=America/New_York:20230203T140000
DTSTAMP:20260420T231042
CREATED:20230106T165444Z
LAST-MODIFIED:20230106T165444Z
UID:10085137-1675418400-1675432800@dswa.com
SUMMARY:Household Hazardous Waste Collection- Cheswold Collection Station
DESCRIPTION:Household Hazardous Waste are collected from 10am-2pm. Household Hazardous Waste can include items such as household cleaners\, garden pesticides\, oil-based paint\, nail polish\, fluorescent bulbs\, and antifreeze. \nElectronics Recycling Available Monday-Saturday\, 8:30am-3:30pm \nDocument Shredding Available the 1st Friday of each month\, 10am-2pm \nNO LATEX PAINT\nLatex Paint is collected on the LAST Friday of each month\, 8:30am-2pm
URL:https://dswa.com/event/household-hazardous-waste-collection-cheswold-collection-station/2023-02-03/
LOCATION:Cheswold Collection Station\, 54 Fork Branch Rd\, Cheswold\, DE\, 19936\, United States
CATEGORIES:HHW Collection
GEO:39.2023153;-75.5717636
X-APPLE-STRUCTURED-LOCATION;VALUE=URI;X-ADDRESS=Cheswold Collection Station 54 Fork Branch Rd Cheswold DE 19936 United States;X-APPLE-RADIUS=500;X-TITLE=54 Fork Branch Rd:geo:-75.5717636,39.2023153
END:VEVENT
BEGIN:VEVENT
DTSTART;TZID=America/New_York:20230203T100000
DTEND;TZID=America/New_York:20230203T140000
DTSTAMP:20260420T231042
CREATED:20230106T165619Z
LAST-MODIFIED:20230130T154617Z
UID:10085763-1675418400-1675432800@dswa.com
SUMMARY:Document Shredding-Cheswold Collection Station
DESCRIPTION:AVAILABLE THE 1ST FRIDAY OF EVERY MONTH. \nPaper Shredding- Residents can bring up to 2 file boxes of personal confidential papers for shredding (financial and legal documents\, receipts\, and tax and medical records). Papers with staples or paper clips are accepted. \nRecycling of electronics is available Monday-Saturday 8:30am-3:30pm \nAll events are restricted to Delaware residents and are held rain or shine
URL:https://dswa.com/event/document-shredding-cheswold-collection-station/2023-02-03/
LOCATION:DE
CATEGORIES:Paper Shredding
END:VEVENT
BEGIN:VEVENT
DTSTART;TZID=America/New_York:20230204T083000
DTEND;TZID=America/New_York:20230204T140000
DTSTAMP:20260420T231042
CREATED:20230106T173018Z
LAST-MODIFIED:20230421T190517Z
UID:10085661-1675499400-1675519200@dswa.com
SUMMARY:Household Hazardous Waste Collection- Delaware Recycling Center
DESCRIPTION:Household Hazardous Waste are collected from 10am-2pm. Household Hazardous Waste can include items such as household cleaners\, garden pesticides\, oil-based paint\, nail polish\, fluorescent bulbs\, and antifreeze. \nElectronics Recycling Available Monday-Saturday\, 8:30am-3:30pm \nDocument Shredding Available the 1st Friday of each month\, 10am-2pm \nNO LATEX PAINT\nLatex Paint is collected on the LAST Saturday of each month\, 8:30am-2pm
URL:https://dswa.com/event/household-hazardous-waste-collection-delaware-recycling-center/2023-02-04/
LOCATION:Delaware Recycling Center\, 1101 Lambson Lane\, New Castle\, DE\, 19720\, United States
CATEGORIES:HHW Collection
GEO:39.702837;-75.5327575
X-APPLE-STRUCTURED-LOCATION;VALUE=URI;X-ADDRESS=Delaware Recycling Center 1101 Lambson Lane New Castle DE 19720 United States;X-APPLE-RADIUS=500;X-TITLE=1101 Lambson Lane:geo:-75.5327575,39.702837
END:VEVENT
BEGIN:VEVENT
DTSTART;TZID=America/New_York:20230209T170000
DTEND;TZID=America/New_York:20230209T180000
DTSTAMP:20260420T231042
CREATED:20230207T151824Z
LAST-MODIFIED:20230207T165515Z
UID:10085788-1675962000-1675965600@dswa.com
SUMMARY:Administrative & Citizens' Affairs Committee Meeting
DESCRIPTION:AGENDA \nA. Administrative and Citizens’ Affairs Committee Meeting Notes – The notes from the January 12\, 2023\, meeting are attached. \nACTION ITEMS:         \nB. Reorganization of the Southern Solid Waste Management Center – Staff will make a recommendation to the Committee to reorganize the structure of SSWMC. \nC. Additions to the Facilities Management Group – Staff will make the recommendation to the Committee to add two positions to the Facilities Management Group. \n            \nBusiness & Governmental Services \nD. FOIA Requests – Staff will review (2) FOIA Requests. \nFinancial Services \nE. Committee’s Audit Review of Internal Management – Revenue/Cost Results for the Month \n\nStatement of Revenue & Expense\nBank Fund Balance\nAging Summary Report\n\n 
URL:https://dswa.com/event/administrative-citizens-affairs-committee-meeting-9/
LOCATION:Zoom Webinar
CATEGORIES:Administrative/Citizens' Affairs Committee,Board of Directors
END:VEVENT
BEGIN:VEVENT
DTSTART;TZID=America/New_York:20230209T170000
DTEND;TZID=America/New_York:20230209T180000
DTSTAMP:20260420T231042
CREATED:20230207T152226Z
LAST-MODIFIED:20230207T163910Z
UID:10085792-1675962000-1675965600@dswa.com
SUMMARY:Technical Affairs & Facilities Management Committee Meeting
DESCRIPTION:AGENDA \n A. Technical & Facilities Management Committee Meeting Notes – The meeting notes from the January 12\, 2023\, meeting are attached. \n ACTION: \nB. Geotechnical Monitoring for the Cherry Island Landfill (CIL) – Contract S-22-873-NC – Staff will make a recommendation to award the Geotechnical monitoring services for the Cherry Island Landfill. \n C. Design and Engineering Services for Phase VI at the Cherry Island Landfill (CIL) – Contract S-21-864-NC – Staff will make a recommendation to award the design and engineering services for Phase VI at the Cherry Island Landfill. \nD. Proposed Change Order for the Sod Farm Site Development at the Southern Solid Waste Management Center (SSWMC) – Contract C-21-848-SS – Staff will make a recommendation concerning the proposed change order for the sod farm site development at the SSWMC. \nINFORMATION: \n E. Project Status Update – Staff will review the monthly project status report. \nF. Upcoming Projects Report – Staff will review the monthly upcoming projects report.
URL:https://dswa.com/event/technical-affairs-facilities-management-committee-meeting-2/
LOCATION:Zoom Webinar
CATEGORIES:Board of Directors,Technical and Facilities Mgt Committee
END:VEVENT
BEGIN:VEVENT
DTSTART;TZID=America/New_York:20230210T100000
DTEND;TZID=America/New_York:20230210T140000
DTSTAMP:20260420T231042
CREATED:20230106T165444Z
LAST-MODIFIED:20230106T165444Z
UID:10085138-1676023200-1676037600@dswa.com
SUMMARY:Household Hazardous Waste Collection- Cheswold Collection Station
DESCRIPTION:Household Hazardous Waste are collected from 10am-2pm. Household Hazardous Waste can include items such as household cleaners\, garden pesticides\, oil-based paint\, nail polish\, fluorescent bulbs\, and antifreeze. \nElectronics Recycling Available Monday-Saturday\, 8:30am-3:30pm \nDocument Shredding Available the 1st Friday of each month\, 10am-2pm \nNO LATEX PAINT\nLatex Paint is collected on the LAST Friday of each month\, 8:30am-2pm
URL:https://dswa.com/event/household-hazardous-waste-collection-cheswold-collection-station/2023-02-10/
LOCATION:Cheswold Collection Station\, 54 Fork Branch Rd\, Cheswold\, DE\, 19936\, United States
CATEGORIES:HHW Collection
GEO:39.2023153;-75.5717636
X-APPLE-STRUCTURED-LOCATION;VALUE=URI;X-ADDRESS=Cheswold Collection Station 54 Fork Branch Rd Cheswold DE 19936 United States;X-APPLE-RADIUS=500;X-TITLE=54 Fork Branch Rd:geo:-75.5717636,39.2023153
END:VEVENT
BEGIN:VEVENT
DTSTART;TZID=America/New_York:20230211T083000
DTEND;TZID=America/New_York:20230211T140000
DTSTAMP:20260420T231042
CREATED:20230106T173018Z
LAST-MODIFIED:20230421T190517Z
UID:10085662-1676104200-1676124000@dswa.com
SUMMARY:Household Hazardous Waste Collection- Delaware Recycling Center
DESCRIPTION:Household Hazardous Waste are collected from 10am-2pm. Household Hazardous Waste can include items such as household cleaners\, garden pesticides\, oil-based paint\, nail polish\, fluorescent bulbs\, and antifreeze. \nElectronics Recycling Available Monday-Saturday\, 8:30am-3:30pm \nDocument Shredding Available the 1st Friday of each month\, 10am-2pm \nNO LATEX PAINT\nLatex Paint is collected on the LAST Saturday of each month\, 8:30am-2pm
URL:https://dswa.com/event/household-hazardous-waste-collection-delaware-recycling-center/2023-02-11/
LOCATION:Delaware Recycling Center\, 1101 Lambson Lane\, New Castle\, DE\, 19720\, United States
CATEGORIES:HHW Collection
GEO:39.702837;-75.5327575
X-APPLE-STRUCTURED-LOCATION;VALUE=URI;X-ADDRESS=Delaware Recycling Center 1101 Lambson Lane New Castle DE 19720 United States;X-APPLE-RADIUS=500;X-TITLE=1101 Lambson Lane:geo:-75.5327575,39.702837
END:VEVENT
BEGIN:VEVENT
DTSTART;TZID=America/New_York:20230217T100000
DTEND;TZID=America/New_York:20230217T140000
DTSTAMP:20260420T231042
CREATED:20230106T165444Z
LAST-MODIFIED:20230106T165444Z
UID:10085139-1676628000-1676642400@dswa.com
SUMMARY:Household Hazardous Waste Collection- Cheswold Collection Station
DESCRIPTION:Household Hazardous Waste are collected from 10am-2pm. Household Hazardous Waste can include items such as household cleaners\, garden pesticides\, oil-based paint\, nail polish\, fluorescent bulbs\, and antifreeze. \nElectronics Recycling Available Monday-Saturday\, 8:30am-3:30pm \nDocument Shredding Available the 1st Friday of each month\, 10am-2pm \nNO LATEX PAINT\nLatex Paint is collected on the LAST Friday of each month\, 8:30am-2pm
URL:https://dswa.com/event/household-hazardous-waste-collection-cheswold-collection-station/2023-02-17/
LOCATION:Cheswold Collection Station\, 54 Fork Branch Rd\, Cheswold\, DE\, 19936\, United States
CATEGORIES:HHW Collection
GEO:39.2023153;-75.5717636
X-APPLE-STRUCTURED-LOCATION;VALUE=URI;X-ADDRESS=Cheswold Collection Station 54 Fork Branch Rd Cheswold DE 19936 United States;X-APPLE-RADIUS=500;X-TITLE=54 Fork Branch Rd:geo:-75.5717636,39.2023153
END:VEVENT
BEGIN:VEVENT
DTSTART;TZID=America/New_York:20230218T083000
DTEND;TZID=America/New_York:20230218T140000
DTSTAMP:20260420T231042
CREATED:20230106T173018Z
LAST-MODIFIED:20230421T190517Z
UID:10085663-1676709000-1676728800@dswa.com
SUMMARY:Household Hazardous Waste Collection- Delaware Recycling Center
DESCRIPTION:Household Hazardous Waste are collected from 10am-2pm. Household Hazardous Waste can include items such as household cleaners\, garden pesticides\, oil-based paint\, nail polish\, fluorescent bulbs\, and antifreeze. \nElectronics Recycling Available Monday-Saturday\, 8:30am-3:30pm \nDocument Shredding Available the 1st Friday of each month\, 10am-2pm \nNO LATEX PAINT\nLatex Paint is collected on the LAST Saturday of each month\, 8:30am-2pm
URL:https://dswa.com/event/household-hazardous-waste-collection-delaware-recycling-center/2023-02-18/
LOCATION:Delaware Recycling Center\, 1101 Lambson Lane\, New Castle\, DE\, 19720\, United States
CATEGORIES:HHW Collection
GEO:39.702837;-75.5327575
X-APPLE-STRUCTURED-LOCATION;VALUE=URI;X-ADDRESS=Delaware Recycling Center 1101 Lambson Lane New Castle DE 19720 United States;X-APPLE-RADIUS=500;X-TITLE=1101 Lambson Lane:geo:-75.5327575,39.702837
END:VEVENT
BEGIN:VEVENT
DTSTART;TZID=America/New_York:20230222T100000
DTEND;TZID=America/New_York:20230222T140000
DTSTAMP:20260420T231042
CREATED:20230106T170015Z
LAST-MODIFIED:20241210T134049Z
UID:10085312-1677060000-1677074400@dswa.com
SUMMARY:Latex Paint Collection- Newark Recycling Center
DESCRIPTION:Residents can bring their latex paint to a collection in a quart\, gallon or 5 gallon metal or plastic containers.
URL:https://dswa.com/event/latex-paint-collection-newark-recycling-center-2/2023-02-22/
LOCATION:DSWA Newark Recycling Center\, 470 Corporate Blvd\, Newark\, DE\, 19702\, United States
CATEGORIES:Latex Paint Collection
END:VEVENT
BEGIN:VEVENT
DTSTART;TZID=America/New_York:20230223T170000
DTEND;TZID=America/New_York:20230223T180000
DTSTAMP:20260420T231042
CREATED:20230106T162915Z
LAST-MODIFIED:20230220T195353Z
UID:10085097-1677171600-1677175200@dswa.com
SUMMARY:Board of Directors Meeting
DESCRIPTION:AGENDA \n A. MINUTES – The minutes of the January 26\, 2023\, Board of Directors meeting of the Delaware Solid Waste Authority require approval. \nReport of the Administrative & Citizens’ Affairs Committee \nB. RECOMMENDATION FOR ORGANIZATIONAL CHANGES – The Committee recommends the Board approve the proposed organizational changes as presented. \n  \nReport of the Technical Affairs and Facilities Management Committee  \n C. GEOTECHNICAL MONITORING FOR THE CHERRY ISLAND LANDFILL – CONTRACT S-22-873-NC – The Committee recommends the Board award the contract to provide Geotechnical Monitoring Services at the Cherry Island Landfill to Geosyntec Consultants as the most responsive proposer. \nD. DESIGN AND ENGINEERING SERVICES FOR PHASE VI AT THE CHERRY ISLAND LANDFILL – CONTRACT S-21-864-NC – The Committee recommends the Board award the contract for the Design and Engineering Services for Phase VI at the Cherry Island Landfill to Geosyntec Consultants\, as the most responsive proposer. \nE. PROPOSED CHANGE ORDER FOR THE SOD FARM SITE DEVELOPMENT AT THE SOUTHERN SOLID WASTE MANAGEMENT CENTER – CONTRACT C-21-848-SS – The Committee recommends the Board approve the proposed Diamond Materials’ Change Order No. 11 for the Sod Farm Development at the Southern Solid Waste Management Center. \nNEW BUSINESS \nPUBLIC COMMENT
URL:https://dswa.com/event/board-of-directors-meeting/
LOCATION:DSWA Admin Building\, 601 Energy Lane\, Dover\, DE\, 601 Energy Lane\, Dover\, DE\, 19901\, United States
CATEGORIES:Board of Directors
END:VEVENT
BEGIN:VEVENT
DTSTART;TZID=America/New_York:20230224T100000
DTEND;TZID=America/New_York:20230224T140000
DTSTAMP:20260420T231042
CREATED:20230106T165444Z
LAST-MODIFIED:20230106T165444Z
UID:10085140-1677232800-1677247200@dswa.com
SUMMARY:Household Hazardous Waste Collection- Cheswold Collection Station
DESCRIPTION:Household Hazardous Waste are collected from 10am-2pm. Household Hazardous Waste can include items such as household cleaners\, garden pesticides\, oil-based paint\, nail polish\, fluorescent bulbs\, and antifreeze. \nElectronics Recycling Available Monday-Saturday\, 8:30am-3:30pm \nDocument Shredding Available the 1st Friday of each month\, 10am-2pm \nNO LATEX PAINT\nLatex Paint is collected on the LAST Friday of each month\, 8:30am-2pm
URL:https://dswa.com/event/household-hazardous-waste-collection-cheswold-collection-station/2023-02-24/
LOCATION:Cheswold Collection Station\, 54 Fork Branch Rd\, Cheswold\, DE\, 19936\, United States
CATEGORIES:HHW Collection
GEO:39.2023153;-75.5717636
X-APPLE-STRUCTURED-LOCATION;VALUE=URI;X-ADDRESS=Cheswold Collection Station 54 Fork Branch Rd Cheswold DE 19936 United States;X-APPLE-RADIUS=500;X-TITLE=54 Fork Branch Rd:geo:-75.5717636,39.2023153
END:VEVENT
BEGIN:VEVENT
DTSTART;TZID=America/New_York:20230224T100000
DTEND;TZID=America/New_York:20230224T140000
DTSTAMP:20260420T231042
CREATED:20230106T165928Z
LAST-MODIFIED:20230106T165928Z
UID:10085264-1677232800-1677247200@dswa.com
SUMMARY:Latex Paint Collection- Cheswold Collection Station
DESCRIPTION:Residents can bring their latex paint to a collection in a quart\, gallon or 5 gallon metal or plastic containers.
URL:https://dswa.com/event/latex-paint-collection-cheswold-collection-station/2023-02-24/
LOCATION:Cheswold Collection Station\, 54 Fork Branch Rd\, Cheswold\, DE\, 19936\, United States
CATEGORIES:Latex Paint Collection
GEO:39.2023153;-75.5717636
X-APPLE-STRUCTURED-LOCATION;VALUE=URI;X-ADDRESS=Cheswold Collection Station 54 Fork Branch Rd Cheswold DE 19936 United States;X-APPLE-RADIUS=500;X-TITLE=54 Fork Branch Rd:geo:-75.5717636,39.2023153
END:VEVENT
BEGIN:VEVENT
DTSTART;TZID=America/New_York:20230225T083000
DTEND;TZID=America/New_York:20230225T140000
DTSTAMP:20260420T231042
CREATED:20230106T173018Z
LAST-MODIFIED:20230421T190517Z
UID:10085664-1677313800-1677333600@dswa.com
SUMMARY:Household Hazardous Waste Collection- Delaware Recycling Center
DESCRIPTION:Household Hazardous Waste are collected from 10am-2pm. Household Hazardous Waste can include items such as household cleaners\, garden pesticides\, oil-based paint\, nail polish\, fluorescent bulbs\, and antifreeze. \nElectronics Recycling Available Monday-Saturday\, 8:30am-3:30pm \nDocument Shredding Available the 1st Friday of each month\, 10am-2pm \nNO LATEX PAINT\nLatex Paint is collected on the LAST Saturday of each month\, 8:30am-2pm
URL:https://dswa.com/event/household-hazardous-waste-collection-delaware-recycling-center/2023-02-25/
LOCATION:Delaware Recycling Center\, 1101 Lambson Lane\, New Castle\, DE\, 19720\, United States
CATEGORIES:HHW Collection
GEO:39.702837;-75.5327575
X-APPLE-STRUCTURED-LOCATION;VALUE=URI;X-ADDRESS=Delaware Recycling Center 1101 Lambson Lane New Castle DE 19720 United States;X-APPLE-RADIUS=500;X-TITLE=1101 Lambson Lane:geo:-75.5327575,39.702837
END:VEVENT
BEGIN:VEVENT
DTSTART;TZID=America/New_York:20230225T100000
DTEND;TZID=America/New_York:20230225T140000
DTSTAMP:20260420T231042
CREATED:20230106T170243Z
LAST-MODIFIED:20250521T142003Z
UID:10085408-1677319200-1677333600@dswa.com
SUMMARY:Latex Paint Collection- Delaware Recycling Center
DESCRIPTION:Residents can bring their latex paint to a collection in a quart\, gallon or 5 gallon metal or plastic containers.
URL:https://dswa.com/event/latex-paint-collection-delaware-recycling-center/2023-02-25/
LOCATION:Delaware Recycling Center\, 1101 Lambson Lane\, New Castle\, DE\, 19720\, United States
CATEGORIES:Latex Paint Collection
GEO:39.702837;-75.5327575
X-APPLE-STRUCTURED-LOCATION;VALUE=URI;X-ADDRESS=Delaware Recycling Center 1101 Lambson Lane New Castle DE 19720 United States;X-APPLE-RADIUS=500;X-TITLE=1101 Lambson Lane:geo:-75.5327575,39.702837
END:VEVENT
BEGIN:VEVENT
DTSTART;TZID=America/New_York:20230227T100000
DTEND;TZID=America/New_York:20230227T140000
DTSTAMP:20260420T231042
CREATED:20230106T170154Z
LAST-MODIFIED:20230520T004201Z
UID:10085360-1677492000-1677506400@dswa.com
SUMMARY:Latex Paint Collection- Jones Crossroads Landfill
DESCRIPTION:Residents can bring their latex paint to a collection in a quart\, gallon or 5 gallon metal or plastic containers.
URL:https://dswa.com/event/latex-paint-collection-jones-crossroads-landfill/2023-02-27/
LOCATION:Jones Crossroads Landfill\, 28560 Landfill Lane\, Georgetown\, DE\, 19947\, United States
CATEGORIES:Latex Paint Collection
GEO:38.5946633;-75.4364622
X-APPLE-STRUCTURED-LOCATION;VALUE=URI;X-ADDRESS=Jones Crossroads Landfill 28560 Landfill Lane Georgetown DE 19947 United States;X-APPLE-RADIUS=500;X-TITLE=28560 Landfill Lane:geo:-75.4364622,38.5946633
END:VEVENT
END:VCALENDAR