BEGIN:VCALENDAR
VERSION:2.0
PRODID:-//DSWA - ECPv6.15.20//NONSGML v1.0//EN
CALSCALE:GREGORIAN
METHOD:PUBLISH
X-ORIGINAL-URL:https://dswa.com
X-WR-CALDESC:Events for DSWA
REFRESH-INTERVAL;VALUE=DURATION:PT1H
X-Robots-Tag:noindex
X-PUBLISHED-TTL:PT1H
BEGIN:VTIMEZONE
TZID:America/New_York
BEGIN:DAYLIGHT
TZOFFSETFROM:-0500
TZOFFSETTO:-0400
TZNAME:EDT
DTSTART:20230312T070000
END:DAYLIGHT
BEGIN:STANDARD
TZOFFSETFROM:-0400
TZOFFSETTO:-0500
TZNAME:EST
DTSTART:20231105T060000
END:STANDARD
BEGIN:DAYLIGHT
TZOFFSETFROM:-0500
TZOFFSETTO:-0400
TZNAME:EDT
DTSTART:20240310T070000
END:DAYLIGHT
BEGIN:STANDARD
TZOFFSETFROM:-0400
TZOFFSETTO:-0500
TZNAME:EST
DTSTART:20241103T060000
END:STANDARD
BEGIN:DAYLIGHT
TZOFFSETFROM:-0500
TZOFFSETTO:-0400
TZNAME:EDT
DTSTART:20250309T070000
END:DAYLIGHT
BEGIN:STANDARD
TZOFFSETFROM:-0400
TZOFFSETTO:-0500
TZNAME:EST
DTSTART:20251102T060000
END:STANDARD
END:VTIMEZONE
BEGIN:VEVENT
DTSTART;TZID=America/New_York:20240205T100000
DTEND;TZID=America/New_York:20240205T140000
DTSTAMP:20260420T230922
CREATED:20230505T004617Z
LAST-MODIFIED:20230707T134251Z
UID:10085934-1707127200-1707141600@dswa.com
SUMMARY:Document Shredding- Southern Recycling Center (Jones Crossroads Landfill)
DESCRIPTION:AVAILABLE THE 1ST MONDAY OF EVERY MONTH. \nPaper Shredding- Residents can bring up to 2 file boxes of personal confidential papers for shredding (financial and legal documents\, receipts\, and tax and medical records). Papers with staples or paper clips are accepted. \nRecycling of electronics is available Monday-Saturday 8:30am-3:30pm \nAll events are restricted to Delaware residents and are held rain or shine
URL:https://dswa.com/event/document-shredding-southern-recycling-center-jones-crossroads-landfill/2024-02-05/
LOCATION:Jones Crossroads Landfill\, 28560 Landfill Lane\, Georgetown\, DE\, 19947\, United States
CATEGORIES:Paper Shredding
GEO:38.5946633;-75.4364622
X-APPLE-STRUCTURED-LOCATION;VALUE=URI;X-ADDRESS=Jones Crossroads Landfill 28560 Landfill Lane Georgetown DE 19947 United States;X-APPLE-RADIUS=500;X-TITLE=28560 Landfill Lane:geo:-75.4364622,38.5946633
END:VEVENT
BEGIN:VEVENT
DTSTART;TZID=America/New_York:20240205T100000
DTEND;TZID=America/New_York:20240205T140000
DTSTAMP:20260420T230922
CREATED:20231106T142808Z
LAST-MODIFIED:20231106T142809Z
UID:10085862-1707127200-1707141600@dswa.com
SUMMARY:Household Hazardous Waste Collection- Southern Recycling Center (Jones Crossroads Landfill)
DESCRIPTION:Household Hazardous Waste are collected from 10am-2pm. Household Hazardous Waste can include items such as household cleaners\, garden pesticides\, oil-based paint\, nail polish\, fluorescent bulbs\, and antifreeze. \nElectronics Recycling Available Monday-Saturday\, 8:30am-3:30pm \nDocument Shredding Available the 1st Monday of each month\, 10am-2pm \nNO LATEX PAINT\nLatex Paint is collected on the LAST Monday of each month\, 10am-2pm
URL:https://dswa.com/event/household-hazardous-waste-collection-southern-recycling-center-jones-crossroads-landfill-2/2024-02-05/
LOCATION:Jones Crossroads Landfill\, 28560 Landfill Lane\, Georgetown\, DE\, 19947\, United States
CATEGORIES:HHW Collection
GEO:38.5946633;-75.4364622
X-APPLE-STRUCTURED-LOCATION;VALUE=URI;X-ADDRESS=Jones Crossroads Landfill 28560 Landfill Lane Georgetown DE 19947 United States;X-APPLE-RADIUS=500;X-TITLE=28560 Landfill Lane:geo:-75.4364622,38.5946633
END:VEVENT
BEGIN:VEVENT
DTSTART;TZID=America/New_York:20240207T100000
DTEND;TZID=America/New_York:20240207T140000
DTSTAMP:20260420T230922
CREATED:20230505T004930Z
LAST-MODIFIED:20241210T134129Z
UID:10085957-1707300000-1707314400@dswa.com
SUMMARY:Document Shredding- Newark Recycling Center
DESCRIPTION:AVAILABLE THE 1ST WEDNESDAY OF EVERY MONTH. \nPaper Shredding- Residents can bring up to 2 file boxes of personal confidential papers for shredding (financial and legal documents\, receipts\, and tax and medical records). Papers with staples or paper clips are accepted. \nRecycling of electronics is available Monday-Saturday 8:30am-3:30pm \nAll events are restricted to Delaware residents and are held rain or shine
URL:https://dswa.com/event/document-shredding-newark-recycling-center/2024-02-07/
LOCATION:DSWA Newark Recycling Center\, 470 Corporate Blvd\, Newark\, DE\, 19702\, United States
CATEGORIES:Paper Shredding
END:VEVENT
BEGIN:VEVENT
DTSTART;TZID=America/New_York:20240207T100000
DTEND;TZID=America/New_York:20240207T140000
DTSTAMP:20260420T230922
CREATED:20230505T005124Z
LAST-MODIFIED:20241210T133952Z
UID:10086011-1707300000-1707314400@dswa.com
SUMMARY:Household Hazardous Waste Collection- Newark Recycling Center
DESCRIPTION:Household Hazardous Waste are collected from 10am-2pm. Household Hazardous Waste can include items such as household cleaners\, garden pesticides\, oil-based paint\, nail polish\, fluorescent bulbs\, and antifreeze. \nElectronics Recycling Available Monday-Saturday\, 8:30am-3:30pm \nDocument Shredding Available the 1st Wednesday of each month\, 10am-2pm \nNO LATEX PAINT\nLatex Paint is collected on the LAST Wednesday of each month\, 10am-2pm
URL:https://dswa.com/event/household-hazardous-waste-collection-newark-recycling-center/2024-02-07/
LOCATION:DSWA Newark Recycling Center\, 470 Corporate Blvd\, Newark\, DE\, 19702\, United States
CATEGORIES:HHW Collection
END:VEVENT
BEGIN:VEVENT
DTSTART;TZID=America/New_York:20240208T170000
DTEND;TZID=America/New_York:20240208T180000
DTSTAMP:20260420T230922
CREATED:20240131T144615Z
LAST-MODIFIED:20240206T195859Z
UID:10086799-1707411600-1707415200@dswa.com
SUMMARY:Technical Affairs and Facilities Management Committee Meeting
DESCRIPTION:DELAWARE SOLID WASTE AUTHORITY TECHNICAL AFFAIRS AND FACILITIES MANAGEMENT COMMITTEE MEETING \nFebruary 8\, 2024 \n5:00 p.m. \n  \nUnder Title 29\, Section 10006A of the Delaware Code\, the Technical Affairs and Facilities Management Committee is holding this meeting as a virtual meeting utilizing Zoom Webinar.  In addition\, this meeting is open to the public at DSWA’s Administration Building (601 Energy Lane Dover\, DE 19901). \n  \nPlease click the link below to join the webinar: \nhttps://us02web.zoom.us/j/85226456222?pwd=RTI1NWM2dTBrV2pRTTlieVVWdWZwdz09 \nPasscode: 865168 \n  \nJoin by One tap mobile : \n+16469313860\,\,85226456222#\,\,\,\,*865168# US \n+19292056099\,\,85226456222#\,\,\,\,*865168# US (New York) \n  \nJoin by Telephone: 1-301-715-8592 \nWebinar ID: 852 2645 6222 \nPasscode: 865168 \n  \n  \nTFMC Committee \nTimothy P. Sheldon – Chairman \nNorman D. Griffiths \nMichael Paraskewich\, PhD\, P.E. \n  \nAGENDA \n  \n A.        Technical & Facilities Management Committee Meeting Notes \nThe meeting notes from the January 11\, 2024\, meeting are attached. \n  \nACTION:         \nB.      Environmental Monitoring Services for CSWMC\, SSWMC\, and DSWA’s Transfer Stations – Contract S-23-889-CSSS \n          Staff will make a recommendation regarding Environmental Monitoring at CSWMC\, SSWMC and DSWA’s transfer stations. \n  \nC.      Proposed Contract with Diamond Materials  \nStaff will make a recommendation regarding the proposed contract with Diamond Materials. \n  \n INFORMATION: \nD.     Project Status Update \nStaff will review the monthly project status report. \nE.     Upcoming Projects Report \nStaff will review the monthly upcoming projects report. \n 
URL:https://dswa.com/event/technical-affairs-and-facilities-management-committee-meeting-2/
LOCATION:Zoom Webinar
CATEGORIES:Technical and Facilities Mgt Committee
END:VEVENT
BEGIN:VEVENT
DTSTART;TZID=America/New_York:20240208T170000
DTEND;TZID=America/New_York:20240208T180000
DTSTAMP:20260420T230922
CREATED:20240206T161751Z
LAST-MODIFIED:20240206T163459Z
UID:10086902-1707411600-1707415200@dswa.com
SUMMARY:Administrative & Citizens' Affairs Committee Meeting
DESCRIPTION:DELAWARE SOLID WASTE AUTHORITY \nADMINISTRATIVE & CITIZENS’ AFFAIRS COMMITTEE \n601 Energy Lane\, Dover\, DE  19901 \nThursday\, February 8\, 2024 \n5:00 p.m. \n  \nUnder Title 29\, Section 10006A of the Delaware Code\, the Administrative & Citizens’ Affairs Committee is holding this meeting as a virtual meeting utilizing Zoom Webinar.  In addition\, this meeting is open to the public at DSWA’s Administration Building (601 Energy Lane\, Dover\, DE 19901).  Join the meeting via Zoom by going to: \n  \nPlease click the link below to join the webinar: \nhttps://us02web.zoom.us/j/85226456222?pwd=RTI1NWM2dTBrV2pRTTlieVVWdWZwdz09 \nPasscode: 865168\nOr Join by One tap mobile :\n+16469313860\,\,85226456222#\,\,\,\,*865168# US\n+19292056099\,\,85226456222#\,\,\,\,*865168# US (New York)\nOr Join by Telephone:  1-301-715-8592\nWebinar ID: 852 2645 6222\nPasscode: 865168 \n  \nCOMMITTEE: \nTonda L. Parks\, Chair \nTemple Carter III \nWilliam J. Riddle \n  \nAGENDA \n  \n A.  Administrative and Citizens’ Affairs Committee Meeting Notes \n             The notes from the January 11\, 2024\, meeting are attached. \n  \nACTION ITEMS: \n  \nBusiness & Governmental Services \nB. Revisions to DSWA’s Human Resources Policy Manual \n      Staff will discuss the revisions to the Human Resources Policy  Manual. \nC. Revisions to DSWA’s Administrative Policies & Procedures Manual \nStaff will discuss the revisions to the Administrative Policies & Procedures Manual. \n  \n  \nINFORMATION ITEM: \n  \nBusiness & Governmental Services \n  \nD. FOIA Requests \nStaff will discuss one (1) FOIA request. \n  \nFinancial Services \nE.  Committee’s Audit Review of Internal Management – Revenue/Cost Results for the Month \n  \n\nStatement of Revenue & Expense\nBank Fund Balance\nAging Summary Report
URL:https://dswa.com/event/administrative-citizens-affairs-committee-meeting-13/
LOCATION:Zoom Webinar
CATEGORIES:Administrative/Citizens' Affairs Committee,Board of Directors
END:VEVENT
BEGIN:VEVENT
DTSTART;TZID=America/New_York:20240209T100000
DTEND;TZID=America/New_York:20240209T140000
DTSTAMP:20260420T230922
CREATED:20230106T165444Z
LAST-MODIFIED:20230106T165444Z
UID:10085190-1707472800-1707487200@dswa.com
SUMMARY:Household Hazardous Waste Collection- Cheswold Collection Station
DESCRIPTION:Household Hazardous Waste are collected from 10am-2pm. Household Hazardous Waste can include items such as household cleaners\, garden pesticides\, oil-based paint\, nail polish\, fluorescent bulbs\, and antifreeze. \nElectronics Recycling Available Monday-Saturday\, 8:30am-3:30pm \nDocument Shredding Available the 1st Friday of each month\, 10am-2pm \nNO LATEX PAINT\nLatex Paint is collected on the LAST Friday of each month\, 8:30am-2pm
URL:https://dswa.com/event/household-hazardous-waste-collection-cheswold-collection-station/2024-02-09/
LOCATION:Cheswold Collection Station\, 54 Fork Branch Rd\, Cheswold\, DE\, 19936\, United States
CATEGORIES:HHW Collection
GEO:39.2023153;-75.5717636
X-APPLE-STRUCTURED-LOCATION;VALUE=URI;X-ADDRESS=Cheswold Collection Station 54 Fork Branch Rd Cheswold DE 19936 United States;X-APPLE-RADIUS=500;X-TITLE=54 Fork Branch Rd:geo:-75.5717636,39.2023153
END:VEVENT
BEGIN:VEVENT
DTSTART;TZID=America/New_York:20240210T083000
DTEND;TZID=America/New_York:20240210T140000
DTSTAMP:20260420T230922
CREATED:20230106T173018Z
LAST-MODIFIED:20230421T190517Z
UID:10085714-1707553800-1707573600@dswa.com
SUMMARY:Household Hazardous Waste Collection- Delaware Recycling Center
DESCRIPTION:Household Hazardous Waste are collected from 10am-2pm. Household Hazardous Waste can include items such as household cleaners\, garden pesticides\, oil-based paint\, nail polish\, fluorescent bulbs\, and antifreeze. \nElectronics Recycling Available Monday-Saturday\, 8:30am-3:30pm \nDocument Shredding Available the 1st Friday of each month\, 10am-2pm \nNO LATEX PAINT\nLatex Paint is collected on the LAST Saturday of each month\, 8:30am-2pm
URL:https://dswa.com/event/household-hazardous-waste-collection-delaware-recycling-center/2024-02-10/
LOCATION:Delaware Recycling Center\, 1101 Lambson Lane\, New Castle\, DE\, 19720\, United States
CATEGORIES:HHW Collection
GEO:39.702837;-75.5327575
X-APPLE-STRUCTURED-LOCATION;VALUE=URI;X-ADDRESS=Delaware Recycling Center 1101 Lambson Lane New Castle DE 19720 United States;X-APPLE-RADIUS=500;X-TITLE=1101 Lambson Lane:geo:-75.5327575,39.702837
END:VEVENT
END:VCALENDAR