BEGIN:VCALENDAR
VERSION:2.0
PRODID:-//DSWA - ECPv6.15.20//NONSGML v1.0//EN
CALSCALE:GREGORIAN
METHOD:PUBLISH
X-WR-CALNAME:DSWA
X-ORIGINAL-URL:https://dswa.com
X-WR-CALDESC:Events for DSWA
REFRESH-INTERVAL;VALUE=DURATION:PT1H
X-Robots-Tag:noindex
X-PUBLISHED-TTL:PT1H
BEGIN:VTIMEZONE
TZID:America/New_York
BEGIN:DAYLIGHT
TZOFFSETFROM:-0500
TZOFFSETTO:-0400
TZNAME:EDT
DTSTART:20230312T070000
END:DAYLIGHT
BEGIN:STANDARD
TZOFFSETFROM:-0400
TZOFFSETTO:-0500
TZNAME:EST
DTSTART:20231105T060000
END:STANDARD
BEGIN:DAYLIGHT
TZOFFSETFROM:-0500
TZOFFSETTO:-0400
TZNAME:EDT
DTSTART:20240310T070000
END:DAYLIGHT
BEGIN:STANDARD
TZOFFSETFROM:-0400
TZOFFSETTO:-0500
TZNAME:EST
DTSTART:20241103T060000
END:STANDARD
BEGIN:DAYLIGHT
TZOFFSETFROM:-0500
TZOFFSETTO:-0400
TZNAME:EDT
DTSTART:20250309T070000
END:DAYLIGHT
BEGIN:STANDARD
TZOFFSETFROM:-0400
TZOFFSETTO:-0500
TZNAME:EST
DTSTART:20251102T060000
END:STANDARD
END:VTIMEZONE
BEGIN:VEVENT
DTSTART;TZID=America/New_York:20240529T100000
DTEND;TZID=America/New_York:20240529T140000
DTSTAMP:20260420T033414
CREATED:20230106T170015Z
LAST-MODIFIED:20241210T134049Z
UID:10085327-1716976800-1716991200@dswa.com
SUMMARY:Latex Paint Collection- Newark Recycling Center
DESCRIPTION:Residents can bring their latex paint to a collection in a quart\, gallon or 5 gallon metal or plastic containers.
URL:https://dswa.com/event/latex-paint-collection-newark-recycling-center-2/2024-05-29/
LOCATION:DSWA Newark Recycling Center\, 470 Corporate Blvd\, Newark\, DE\, 19702\, United States
CATEGORIES:Latex Paint Collection
END:VEVENT
BEGIN:VEVENT
DTSTART;TZID=America/New_York:20240529T100000
DTEND;TZID=America/New_York:20240529T140000
DTSTAMP:20260420T033414
CREATED:20230505T005124Z
LAST-MODIFIED:20241210T133952Z
UID:10086027-1716976800-1716991200@dswa.com
SUMMARY:Household Hazardous Waste Collection- Newark Recycling Center
DESCRIPTION:Household Hazardous Waste are collected from 10am-2pm. Household Hazardous Waste can include items such as household cleaners\, garden pesticides\, oil-based paint\, nail polish\, fluorescent bulbs\, and antifreeze. \nElectronics Recycling Available Monday-Saturday\, 8:30am-3:30pm \nDocument Shredding Available the 1st Wednesday of each month\, 10am-2pm \nNO LATEX PAINT\nLatex Paint is collected on the LAST Wednesday of each month\, 10am-2pm
URL:https://dswa.com/event/household-hazardous-waste-collection-newark-recycling-center/2024-05-29/
LOCATION:DSWA Newark Recycling Center\, 470 Corporate Blvd\, Newark\, DE\, 19702\, United States
CATEGORIES:HHW Collection
END:VEVENT
BEGIN:VEVENT
DTSTART;TZID=America/New_York:20240531T100000
DTEND;TZID=America/New_York:20240531T140000
DTSTAMP:20260420T033414
CREATED:20230106T165444Z
LAST-MODIFIED:20230106T165444Z
UID:10085206-1717149600-1717164000@dswa.com
SUMMARY:Household Hazardous Waste Collection- Cheswold Collection Station
DESCRIPTION:Household Hazardous Waste are collected from 10am-2pm. Household Hazardous Waste can include items such as household cleaners\, garden pesticides\, oil-based paint\, nail polish\, fluorescent bulbs\, and antifreeze. \nElectronics Recycling Available Monday-Saturday\, 8:30am-3:30pm \nDocument Shredding Available the 1st Friday of each month\, 10am-2pm \nNO LATEX PAINT\nLatex Paint is collected on the LAST Friday of each month\, 8:30am-2pm
URL:https://dswa.com/event/household-hazardous-waste-collection-cheswold-collection-station/2024-05-31/
LOCATION:Cheswold Collection Station\, 54 Fork Branch Rd\, Cheswold\, DE\, 19936\, United States
CATEGORIES:HHW Collection
GEO:39.2023153;-75.5717636
X-APPLE-STRUCTURED-LOCATION;VALUE=URI;X-ADDRESS=Cheswold Collection Station 54 Fork Branch Rd Cheswold DE 19936 United States;X-APPLE-RADIUS=500;X-TITLE=54 Fork Branch Rd:geo:-75.5717636,39.2023153
END:VEVENT
BEGIN:VEVENT
DTSTART;TZID=America/New_York:20240531T100000
DTEND;TZID=America/New_York:20240531T140000
DTSTAMP:20260420T033414
CREATED:20230106T165928Z
LAST-MODIFIED:20230106T165928Z
UID:10085279-1717149600-1717164000@dswa.com
SUMMARY:Latex Paint Collection- Cheswold Collection Station
DESCRIPTION:Residents can bring their latex paint to a collection in a quart\, gallon or 5 gallon metal or plastic containers.
URL:https://dswa.com/event/latex-paint-collection-cheswold-collection-station/2024-05-31/
LOCATION:Cheswold Collection Station\, 54 Fork Branch Rd\, Cheswold\, DE\, 19936\, United States
CATEGORIES:Latex Paint Collection
GEO:39.2023153;-75.5717636
X-APPLE-STRUCTURED-LOCATION;VALUE=URI;X-ADDRESS=Cheswold Collection Station 54 Fork Branch Rd Cheswold DE 19936 United States;X-APPLE-RADIUS=500;X-TITLE=54 Fork Branch Rd:geo:-75.5717636,39.2023153
END:VEVENT
BEGIN:VEVENT
DTSTART;TZID=America/New_York:20240601T083000
DTEND;TZID=America/New_York:20240601T140000
DTSTAMP:20260420T033414
CREATED:20230106T173018Z
LAST-MODIFIED:20230421T190517Z
UID:10085730-1717230600-1717250400@dswa.com
SUMMARY:Household Hazardous Waste Collection- Delaware Recycling Center
DESCRIPTION:Household Hazardous Waste are collected from 10am-2pm. Household Hazardous Waste can include items such as household cleaners\, garden pesticides\, oil-based paint\, nail polish\, fluorescent bulbs\, and antifreeze. \nElectronics Recycling Available Monday-Saturday\, 8:30am-3:30pm \nDocument Shredding Available the 1st Friday of each month\, 10am-2pm \nNO LATEX PAINT\nLatex Paint is collected on the LAST Saturday of each month\, 8:30am-2pm
URL:https://dswa.com/event/household-hazardous-waste-collection-delaware-recycling-center/2024-06-01/
LOCATION:Delaware Recycling Center\, 1101 Lambson Lane\, New Castle\, DE\, 19720\, United States
CATEGORIES:HHW Collection
GEO:39.702837;-75.5327575
X-APPLE-STRUCTURED-LOCATION;VALUE=URI;X-ADDRESS=Delaware Recycling Center 1101 Lambson Lane New Castle DE 19720 United States;X-APPLE-RADIUS=500;X-TITLE=1101 Lambson Lane:geo:-75.5327575,39.702837
END:VEVENT
BEGIN:VEVENT
DTSTART;TZID=America/New_York:20240601T083000
DTEND;TZID=America/New_York:20240601T140000
DTSTAMP:20260420T033414
CREATED:20230830T161229Z
LAST-MODIFIED:20250521T141934Z
UID:10086595-1717230600-1717250400@dswa.com
SUMMARY:Document Shredding- Delaware Recycling Center
DESCRIPTION:AVAILABLE THE 1ST SATURDAY OF EVERY MONTH. \nPaper Shredding- Residents can bring up to 2 file boxes of personal confidential papers for shredding (financial and legal documents\, receipts\, and tax and medical records). Papers with staples or paper clips are accepted. \nRecycling of electronics is available Monday-Friday 8:30am-3:30pm and Saturday 8:30am-2pm \nAll events are restricted to Delaware residents and are held rain or shine
URL:https://dswa.com/event/document-shredding-delaware-recycling-center/2024-06-01/
LOCATION:The Delaware Recycling Center\, 1101 Lambsons Lane\, New Castle\, DE\, 19720\, United States
CATEGORIES:Paper Shredding
GEO:39.7048226;-75.5319155
X-APPLE-STRUCTURED-LOCATION;VALUE=URI;X-ADDRESS=The Delaware Recycling Center 1101 Lambsons Lane New Castle DE 19720 United States;X-APPLE-RADIUS=500;X-TITLE=1101 Lambsons Lane:geo:-75.5319155,39.7048226
END:VEVENT
END:VCALENDAR