BEGIN:VCALENDAR
VERSION:2.0
PRODID:-//DSWA - ECPv6.15.20//NONSGML v1.0//EN
CALSCALE:GREGORIAN
METHOD:PUBLISH
X-WR-CALNAME:DSWA
X-ORIGINAL-URL:https://dswa.com
X-WR-CALDESC:Events for DSWA
REFRESH-INTERVAL;VALUE=DURATION:PT1H
X-Robots-Tag:noindex
X-PUBLISHED-TTL:PT1H
BEGIN:VTIMEZONE
TZID:America/New_York
BEGIN:DAYLIGHT
TZOFFSETFROM:-0500
TZOFFSETTO:-0400
TZNAME:EDT
DTSTART:20230312T070000
END:DAYLIGHT
BEGIN:STANDARD
TZOFFSETFROM:-0400
TZOFFSETTO:-0500
TZNAME:EST
DTSTART:20231105T060000
END:STANDARD
BEGIN:DAYLIGHT
TZOFFSETFROM:-0500
TZOFFSETTO:-0400
TZNAME:EDT
DTSTART:20240310T070000
END:DAYLIGHT
BEGIN:STANDARD
TZOFFSETFROM:-0400
TZOFFSETTO:-0500
TZNAME:EST
DTSTART:20241103T060000
END:STANDARD
BEGIN:DAYLIGHT
TZOFFSETFROM:-0500
TZOFFSETTO:-0400
TZNAME:EDT
DTSTART:20250309T070000
END:DAYLIGHT
BEGIN:STANDARD
TZOFFSETFROM:-0400
TZOFFSETTO:-0500
TZNAME:EST
DTSTART:20251102T060000
END:STANDARD
END:VTIMEZONE
BEGIN:VEVENT
DTSTART;TZID=America/New_York:20240805T100000
DTEND;TZID=America/New_York:20240805T140000
DTSTAMP:20260425T134006
CREATED:20240806T231827Z
LAST-MODIFIED:20250812T185515Z
UID:10085940-1722852000-1722866400@dswa.com
SUMMARY:Document Shredding- Southern Recycling Center (Jones Crossroads Landfill)
DESCRIPTION:AVAILABLE THE 1ST MONDAY OF EVERY MONTH. \nPaper Shredding- Residents can bring up to 2 file boxes of personal confidential papers for shredding (financial and legal documents\, receipts\, and tax and medical records). Papers with staples or paper clips are accepted. \nRecycling of electronics is available Monday-Saturday 8:30am-3:30pm \nAll events are restricted to Delaware residents and are held rain or shine
URL:https://dswa.com/event/document-shredding-southern-recycling-center-jones-crossroads-landfill-3/2024-08-05/
LOCATION:Jones Crossroads Landfill\, 28560 Landfill Lane\, Georgetown\, DE\, 19947\, United States
CATEGORIES:Paper Shredding
GEO:38.5946633;-75.4364622
X-APPLE-STRUCTURED-LOCATION;VALUE=URI;X-ADDRESS=Jones Crossroads Landfill 28560 Landfill Lane Georgetown DE 19947 United States;X-APPLE-RADIUS=500;X-TITLE=28560 Landfill Lane:geo:-75.4364622,38.5946633
END:VEVENT
BEGIN:VEVENT
DTSTART;TZID=America/New_York:20240805T100000
DTEND;TZID=America/New_York:20240805T140000
DTSTAMP:20260425T134006
CREATED:20240806T232042Z
LAST-MODIFIED:20250812T185650Z
UID:10085888-1722852000-1722866400@dswa.com
SUMMARY:Household Hazardous Waste Collection- Southern Recycling Center (Jones Crossroads Landfill)
DESCRIPTION:Household Hazardous Waste are collected from 10am-2pm. Household Hazardous Waste can include items such as household cleaners\, garden pesticides\, oil-based paint\, nail polish\, fluorescent bulbs\, and antifreeze. \nElectronics Recycling Available Monday-Saturday\, 8:30am-3:30pm \nDocument Shredding Available the 1st Monday of each month\, 10am-2pm \nNO LATEX PAINT\nLatex Paint is collected on the LAST Monday of each month\, 10am-2pm
URL:https://dswa.com/event/household-hazardous-waste-collection-southern-recycling-center-jones-crossroads-landfill-2-2-2/2024-08-05/
LOCATION:Jones Crossroads Landfill\, 28560 Landfill Lane\, Georgetown\, DE\, 19947\, United States
CATEGORIES:HHW Collection
GEO:38.5946633;-75.4364622
X-APPLE-STRUCTURED-LOCATION;VALUE=URI;X-ADDRESS=Jones Crossroads Landfill 28560 Landfill Lane Georgetown DE 19947 United States;X-APPLE-RADIUS=500;X-TITLE=28560 Landfill Lane:geo:-75.4364622,38.5946633
END:VEVENT
BEGIN:VEVENT
DTSTART;TZID=America/New_York:20240807T100000
DTEND;TZID=America/New_York:20240807T140000
DTSTAMP:20260425T134006
CREATED:20230505T004930Z
LAST-MODIFIED:20241210T134129Z
UID:10085963-1723024800-1723039200@dswa.com
SUMMARY:Document Shredding- Newark Recycling Center
DESCRIPTION:AVAILABLE THE 1ST WEDNESDAY OF EVERY MONTH. \nPaper Shredding- Residents can bring up to 2 file boxes of personal confidential papers for shredding (financial and legal documents\, receipts\, and tax and medical records). Papers with staples or paper clips are accepted. \nRecycling of electronics is available Monday-Saturday 8:30am-3:30pm \nAll events are restricted to Delaware residents and are held rain or shine
URL:https://dswa.com/event/document-shredding-newark-recycling-center/2024-08-07/
LOCATION:DSWA Newark Recycling Center\, 470 Corporate Blvd\, Newark\, DE\, 19702\, United States
CATEGORIES:Paper Shredding
END:VEVENT
BEGIN:VEVENT
DTSTART;TZID=America/New_York:20240807T100000
DTEND;TZID=America/New_York:20240807T140000
DTSTAMP:20260425T134006
CREATED:20230505T005124Z
LAST-MODIFIED:20241210T133952Z
UID:10086037-1723024800-1723039200@dswa.com
SUMMARY:Household Hazardous Waste Collection- Newark Recycling Center
DESCRIPTION:Household Hazardous Waste are collected from 10am-2pm. Household Hazardous Waste can include items such as household cleaners\, garden pesticides\, oil-based paint\, nail polish\, fluorescent bulbs\, and antifreeze. \nElectronics Recycling Available Monday-Saturday\, 8:30am-3:30pm \nDocument Shredding Available the 1st Wednesday of each month\, 10am-2pm \nNO LATEX PAINT\nLatex Paint is collected on the LAST Wednesday of each month\, 10am-2pm
URL:https://dswa.com/event/household-hazardous-waste-collection-newark-recycling-center/2024-08-07/
LOCATION:DSWA Newark Recycling Center\, 470 Corporate Blvd\, Newark\, DE\, 19702\, United States
CATEGORIES:HHW Collection
END:VEVENT
BEGIN:VEVENT
DTSTART;TZID=America/New_York:20240808T170000
DTEND;TZID=America/New_York:20240808T180000
DTSTAMP:20260425T134006
CREATED:20240711T122619Z
LAST-MODIFIED:20240801T193433Z
UID:10086992-1723136400-1723140000@dswa.com
SUMMARY:Technical Affairs and Facilities Management Committee Meeting
DESCRIPTION:DELAWARE SOLID WASTE AUTHORITY\nTECHNICAL AFFAIRS AND FACILITIES MANAGEMENT COMMITTEE MEETING\n601 Energy Lane\, Dover\, DE 19901\nAugust 8\, 2024\n5:00 p.m. \nUnder Title 29\, Section 10006A of the Delaware Code\, the Technical Affairs and Facilities Management Committee is holding this meeting as a virtual meeting utilizing Zoom Webinar. In addition\, this meeting is open to the public at DSWA’s Administration Building (601 Energy Lane Dover\, DE 19901). \nPlease click the link below to join the webinar:\nhttps://us02web.zoom.us/j/84960844333?pwd=iSeRnZ0gJ5B5v6bLdNjEbPpixdik2v.1\nPasscode: 868771 \nOr Join by One tap mobile :\n+19292056099\,\,84960844333#\,\,\,\,*868771# US (New York)\n+13017158592\,\,84960844333#\,\,\,\,*868771# US (Washington DC) \nOr Join by Telephone:\n+1 301 715 8592 US (Washington DC)\nWebinar ID: 849 6084 4333\nPasscode: 868771 \nTFMC Committee\nTimothy P. Sheldon – Chairman\nNorman D. Griffiths\nMichael Paraskewich\, PhD\, P.E. \nAGENDA \nA. Technical & Facilities Management Committee Meeting Notes\nThe meeting notes from the June 13\, 2024\, meeting are attached. \nACTION ITEMS: \nB. Capping of Area A/B at the Central Solid Waste Management Center – Contract No. C-24-900-CS\nStaff will make a recommendation to award the contract for Capping of Area A/B project. \nC. Design and Engineering Services for Area F Phase I-B Capping at the Central Solid Waste Management Center Contract No. S-24-903-CS\nStaff will make a recommendation regarding the Design and Engineering Services for Area F Phase I-B Capping project. \nD. Route 5 Transfer Station Tipping Floor Trench Drain Replacement – Contract No. C-23-881-SR\nStaff will make a recommendation to award the contract for the Route 5 Transfer Station Tipping Floor Trench Drain Replacement project. \n  \nINFORMATION ITEMS \nE. Project Status Update\nStaff will review the monthly project status report. \nF. Upcoming Projects Report\nStaff will review the monthly upcoming projects report.
URL:https://dswa.com/event/technical-affairs-and-facilities-management-committee-meeting-6/
LOCATION:Zoom Webinar
CATEGORIES:Technical and Facilities Mgt Committee
END:VEVENT
BEGIN:VEVENT
DTSTART;TZID=America/New_York:20240808T170000
DTEND;TZID=America/New_York:20240808T180000
DTSTAMP:20260425T134006
CREATED:20240711T122808Z
LAST-MODIFIED:20240801T192757Z
UID:10086996-1723136400-1723140000@dswa.com
SUMMARY:Administrative & Citizens' Affairs Committee Meeting
DESCRIPTION:DELAWARE SOLID WASTE AUTHORITY \nADMINISTRATIVE & CITIZENS’ AFFAIRS COMMITTEE \n601 Energy Lane\, Dover\, DE  19901 \nThursday\, August 8\, 2024 \n5:00 p.m. \n  \nUnder Title 29\, Section 10006A of the Delaware Code\, the Administrative & Citizens’ Affairs Committee is holding this meeting as a virtual meeting utilizing Zoom Webinar.  In addition\, this meeting is open to the public at DSWA’s Administration Building (601 Energy Lane\, Dover\, DE 19901).  Join the meeting via Zoom by going to: \n  \nPlease click the link below to join the webinar: \nhttps://us02web.zoom.us/j/84960844333?pwd=iSeRnZ0gJ5B5v6bLdNjEbPpixdik2v.1 \nPasscode: 868771 \n  \nOr Join by One tap mobile : \n+19292056099\,\,84960844333#\,\,\,\,*868771# US (New York) \n+13017158592\,\,84960844333#\,\,\,\,*868771# US (Washington DC) \n  \nOr Join by Telephone: \n+1 301 715 8592 US (Washington DC) \nWebinar ID: 849 6084 4333 \nPasscode: 868771 \n  \n  \nCOMMITTEE: \nTonda L. Parks\, Chair \n\nTemple Carter III\n\nWilliam J. Riddle \n  \nAGENDA \n  \n\n Administrative and Citizens’ Affairs Committee Meeting Notes\n\n  \n            The notes from the June 13\, 2024\, meeting are attached. \n  \nACTION ITEMS: \n  \nBusiness & Governmental Services \n  \n\n Tire Recycling Program Contract S-24-904-SW\n\n  \n            Staff will make a recommendation to the Committee to negotiate an agreement for the statewide Tire Recycling Program. \n  \nHuman Resources \n  \n\n Pay Scale Adjustment\n\n  \nStaff will make a recommendation to the Committee to approve an adjustment to Non-Exempt Operations/Landfill positions pay grades. \n  \n  \nINFORMATION ITEM: \n  \nBusiness & Governmental Services \n  \n\n FOIA Requests\n\n  \nStaff will discuss two (2) FOIA request. \n  \nFinancial Services \n  \n\n Committee’s Audit Review of Internal Management – Revenue/Cost Results for the Month\n\n  \n\nStatement of Revenue & Expense\nBank Fund Balance\nAging Summary Report
URL:https://dswa.com/event/administrative-citizens-affairs-committee-meeting-6/
LOCATION:Zoom Webinar
CATEGORIES:Administrative/Citizens' Affairs Committee,Board of Directors
END:VEVENT
BEGIN:VEVENT
DTSTART;TZID=America/New_York:20240809T100000
DTEND;TZID=America/New_York:20240809T140000
DTSTAMP:20260425T134006
CREATED:20230106T165444Z
LAST-MODIFIED:20230106T165444Z
UID:10085216-1723197600-1723212000@dswa.com
SUMMARY:Household Hazardous Waste Collection- Cheswold Collection Station
DESCRIPTION:Household Hazardous Waste are collected from 10am-2pm. Household Hazardous Waste can include items such as household cleaners\, garden pesticides\, oil-based paint\, nail polish\, fluorescent bulbs\, and antifreeze. \nElectronics Recycling Available Monday-Saturday\, 8:30am-3:30pm \nDocument Shredding Available the 1st Friday of each month\, 10am-2pm \nNO LATEX PAINT\nLatex Paint is collected on the LAST Friday of each month\, 8:30am-2pm
URL:https://dswa.com/event/household-hazardous-waste-collection-cheswold-collection-station/2024-08-09/
LOCATION:Cheswold Collection Station\, 54 Fork Branch Rd\, Cheswold\, DE\, 19936\, United States
CATEGORIES:HHW Collection
GEO:39.2023153;-75.5717636
X-APPLE-STRUCTURED-LOCATION;VALUE=URI;X-ADDRESS=Cheswold Collection Station 54 Fork Branch Rd Cheswold DE 19936 United States;X-APPLE-RADIUS=500;X-TITLE=54 Fork Branch Rd:geo:-75.5717636,39.2023153
END:VEVENT
BEGIN:VEVENT
DTSTART;TZID=America/New_York:20240810T080000
DTEND;TZID=America/New_York:20240810T140000
DTSTAMP:20260425T134006
CREATED:20240131T151909Z
LAST-MODIFIED:20240131T151909Z
UID:10086819-1723276800-1723298400@dswa.com
SUMMARY:Collection Event- Wilmington
DESCRIPTION:Household Hazardous Waste- Product containers marked with words\, “Warning: Hazardous\,” “Flammable\,” “Poisonous\,” “Corrosive” or “Explosive.” For example; household cleaners\, garden pesticides\, oil-based paints only\, nail polish\, fluorescent bulbs\, or antifreeze. \nElectronic Goods Recycling- Electronic Equipment such as\, old computers\, printers\, CD players\, microwaves\, telephones\, televisions\, game boys\, fax machines\, answering machines\, and VCRs. \nPaper Shredding- Residents can bring up to 2 file boxes of personal confidential papers for shredding (financial and legal documents\, receipts\, and tax and medical records). Papers with staples or paper clips are accepted.
URL:https://dswa.com/event/collection-event-wilmington-5/
LOCATION:DelCastle High School\, 1417 Newport Road\, Wilmington\, DE\, 19804\, United States
CATEGORIES:Electronic Goods,HHW Collection,Paper Shredding
END:VEVENT
BEGIN:VEVENT
DTSTART;TZID=America/New_York:20240810T083000
DTEND;TZID=America/New_York:20240810T140000
DTSTAMP:20260425T134006
CREATED:20230106T173018Z
LAST-MODIFIED:20230421T190517Z
UID:10085740-1723278600-1723298400@dswa.com
SUMMARY:Household Hazardous Waste Collection- Delaware Recycling Center
DESCRIPTION:Household Hazardous Waste are collected from 10am-2pm. Household Hazardous Waste can include items such as household cleaners\, garden pesticides\, oil-based paint\, nail polish\, fluorescent bulbs\, and antifreeze. \nElectronics Recycling Available Monday-Saturday\, 8:30am-3:30pm \nDocument Shredding Available the 1st Friday of each month\, 10am-2pm \nNO LATEX PAINT\nLatex Paint is collected on the LAST Saturday of each month\, 8:30am-2pm
URL:https://dswa.com/event/household-hazardous-waste-collection-delaware-recycling-center/2024-08-10/
LOCATION:Delaware Recycling Center\, 1101 Lambson Lane\, New Castle\, DE\, 19720\, United States
CATEGORIES:HHW Collection
GEO:39.702837;-75.5327575
X-APPLE-STRUCTURED-LOCATION;VALUE=URI;X-ADDRESS=Delaware Recycling Center 1101 Lambson Lane New Castle DE 19720 United States;X-APPLE-RADIUS=500;X-TITLE=1101 Lambson Lane:geo:-75.5327575,39.702837
END:VEVENT
END:VCALENDAR