BEGIN:VCALENDAR
VERSION:2.0
PRODID:-//DSWA - ECPv6.15.20//NONSGML v1.0//EN
CALSCALE:GREGORIAN
METHOD:PUBLISH
X-ORIGINAL-URL:https://dswa.com
X-WR-CALDESC:Events for DSWA
REFRESH-INTERVAL;VALUE=DURATION:PT1H
X-Robots-Tag:noindex
X-PUBLISHED-TTL:PT1H
BEGIN:VTIMEZONE
TZID:America/New_York
BEGIN:DAYLIGHT
TZOFFSETFROM:-0500
TZOFFSETTO:-0400
TZNAME:EDT
DTSTART:20230312T070000
END:DAYLIGHT
BEGIN:STANDARD
TZOFFSETFROM:-0400
TZOFFSETTO:-0500
TZNAME:EST
DTSTART:20231105T060000
END:STANDARD
BEGIN:DAYLIGHT
TZOFFSETFROM:-0500
TZOFFSETTO:-0400
TZNAME:EDT
DTSTART:20240310T070000
END:DAYLIGHT
BEGIN:STANDARD
TZOFFSETFROM:-0400
TZOFFSETTO:-0500
TZNAME:EST
DTSTART:20241103T060000
END:STANDARD
BEGIN:DAYLIGHT
TZOFFSETFROM:-0500
TZOFFSETTO:-0400
TZNAME:EDT
DTSTART:20250309T070000
END:DAYLIGHT
BEGIN:STANDARD
TZOFFSETFROM:-0400
TZOFFSETTO:-0500
TZNAME:EST
DTSTART:20251102T060000
END:STANDARD
END:VTIMEZONE
BEGIN:VEVENT
DTSTART;TZID=America/New_York:20241028T100000
DTEND;TZID=America/New_York:20241028T140000
DTSTAMP:20260421T042113
CREATED:20240508T124656Z
LAST-MODIFIED:20250513T145739Z
UID:10086715-1730109600-1730124000@dswa.com
SUMMARY:Latex Paint Collection- Jones Crossroads Landfill
DESCRIPTION:Residents can bring their latex paint to a collection in a quart\, gallon or 5 gallon metal or plastic containers.
URL:https://dswa.com/event/latex-paint-collection-jones-crossroads-landfill-2-4-2/2024-10-28/
LOCATION:Jones Crossroads Landfill\, 28560 Landfill Lane\, Georgetown\, DE\, 19947\, United States
CATEGORIES:Latex Paint Collection
GEO:38.5946633;-75.4364622
X-APPLE-STRUCTURED-LOCATION;VALUE=URI;X-ADDRESS=Jones Crossroads Landfill 28560 Landfill Lane Georgetown DE 19947 United States;X-APPLE-RADIUS=500;X-TITLE=28560 Landfill Lane:geo:-75.4364622,38.5946633
END:VEVENT
BEGIN:VEVENT
DTSTART;TZID=America/New_York:20241028T100000
DTEND;TZID=America/New_York:20241028T140000
DTSTAMP:20260421T042113
CREATED:20240806T232042Z
LAST-MODIFIED:20250812T185650Z
UID:10085900-1730109600-1730124000@dswa.com
SUMMARY:Household Hazardous Waste Collection- Southern Recycling Center (Jones Crossroads Landfill)
DESCRIPTION:Household Hazardous Waste are collected from 10am-2pm. Household Hazardous Waste can include items such as household cleaners\, garden pesticides\, oil-based paint\, nail polish\, fluorescent bulbs\, and antifreeze. \nElectronics Recycling Available Monday-Saturday\, 8:30am-3:30pm \nDocument Shredding Available the 1st Monday of each month\, 10am-2pm \nNO LATEX PAINT\nLatex Paint is collected on the LAST Monday of each month\, 10am-2pm
URL:https://dswa.com/event/household-hazardous-waste-collection-southern-recycling-center-jones-crossroads-landfill-2-2-2/2024-10-28/
LOCATION:Jones Crossroads Landfill\, 28560 Landfill Lane\, Georgetown\, DE\, 19947\, United States
CATEGORIES:HHW Collection
GEO:38.5946633;-75.4364622
X-APPLE-STRUCTURED-LOCATION;VALUE=URI;X-ADDRESS=Jones Crossroads Landfill 28560 Landfill Lane Georgetown DE 19947 United States;X-APPLE-RADIUS=500;X-TITLE=28560 Landfill Lane:geo:-75.4364622,38.5946633
END:VEVENT
BEGIN:VEVENT
DTSTART;TZID=America/New_York:20241030T100000
DTEND;TZID=America/New_York:20241030T140000
DTSTAMP:20260421T042113
CREATED:20230106T170015Z
LAST-MODIFIED:20241210T134049Z
UID:10085332-1730282400-1730296800@dswa.com
SUMMARY:Latex Paint Collection- Newark Recycling Center
DESCRIPTION:Residents can bring their latex paint to a collection in a quart\, gallon or 5 gallon metal or plastic containers.
URL:https://dswa.com/event/latex-paint-collection-newark-recycling-center-2/2024-10-30/
LOCATION:DSWA Newark Recycling Center\, 470 Corporate Blvd\, Newark\, DE\, 19702\, United States
CATEGORIES:Latex Paint Collection
END:VEVENT
BEGIN:VEVENT
DTSTART;TZID=America/New_York:20241030T100000
DTEND;TZID=America/New_York:20241030T140000
DTSTAMP:20260421T042113
CREATED:20230505T005124Z
LAST-MODIFIED:20241210T133952Z
UID:10086049-1730282400-1730296800@dswa.com
SUMMARY:Household Hazardous Waste Collection- Newark Recycling Center
DESCRIPTION:Household Hazardous Waste are collected from 10am-2pm. Household Hazardous Waste can include items such as household cleaners\, garden pesticides\, oil-based paint\, nail polish\, fluorescent bulbs\, and antifreeze. \nElectronics Recycling Available Monday-Saturday\, 8:30am-3:30pm \nDocument Shredding Available the 1st Wednesday of each month\, 10am-2pm \nNO LATEX PAINT\nLatex Paint is collected on the LAST Wednesday of each month\, 10am-2pm
URL:https://dswa.com/event/household-hazardous-waste-collection-newark-recycling-center/2024-10-30/
LOCATION:DSWA Newark Recycling Center\, 470 Corporate Blvd\, Newark\, DE\, 19702\, United States
CATEGORIES:HHW Collection
END:VEVENT
BEGIN:VEVENT
DTSTART;TZID=America/New_York:20241031T170000
DTEND;TZID=America/New_York:20241031T190000
DTSTAMP:20260421T042113
CREATED:20240711T123226Z
LAST-MODIFIED:20240711T123226Z
UID:10087004-1730394000-1730401200@dswa.com
SUMMARY:DSWA Board Meeting
DESCRIPTION:
URL:https://dswa.com/event/dswa-board-meeting-5/
LOCATION:Community Bank Delaware\, 16982 Kings Highway\, Lewes\, DE\, 19958\, United States
CATEGORIES:Board of Directors
END:VEVENT
BEGIN:VEVENT
DTSTART;TZID=America/New_York:20241101T100000
DTEND;TZID=America/New_York:20241101T140000
DTSTAMP:20260421T042113
CREATED:20230106T165444Z
LAST-MODIFIED:20230106T165444Z
UID:10085228-1730455200-1730469600@dswa.com
SUMMARY:Household Hazardous Waste Collection- Cheswold Collection Station
DESCRIPTION:Household Hazardous Waste are collected from 10am-2pm. Household Hazardous Waste can include items such as household cleaners\, garden pesticides\, oil-based paint\, nail polish\, fluorescent bulbs\, and antifreeze. \nElectronics Recycling Available Monday-Saturday\, 8:30am-3:30pm \nDocument Shredding Available the 1st Friday of each month\, 10am-2pm \nNO LATEX PAINT\nLatex Paint is collected on the LAST Friday of each month\, 8:30am-2pm
URL:https://dswa.com/event/household-hazardous-waste-collection-cheswold-collection-station/2024-11-01/
LOCATION:Cheswold Collection Station\, 54 Fork Branch Rd\, Cheswold\, DE\, 19936\, United States
CATEGORIES:HHW Collection
GEO:39.2023153;-75.5717636
X-APPLE-STRUCTURED-LOCATION;VALUE=URI;X-ADDRESS=Cheswold Collection Station 54 Fork Branch Rd Cheswold DE 19936 United States;X-APPLE-RADIUS=500;X-TITLE=54 Fork Branch Rd:geo:-75.5717636,39.2023153
END:VEVENT
BEGIN:VEVENT
DTSTART;TZID=America/New_York:20241101T100000
DTEND;TZID=America/New_York:20241101T140000
DTSTAMP:20260421T042113
CREATED:20230106T165619Z
LAST-MODIFIED:20230130T154617Z
UID:10085784-1730455200-1730469600@dswa.com
SUMMARY:Document Shredding-Cheswold Collection Station
DESCRIPTION:AVAILABLE THE 1ST FRIDAY OF EVERY MONTH. \nPaper Shredding- Residents can bring up to 2 file boxes of personal confidential papers for shredding (financial and legal documents\, receipts\, and tax and medical records). Papers with staples or paper clips are accepted. \nRecycling of electronics is available Monday-Saturday 8:30am-3:30pm \nAll events are restricted to Delaware residents and are held rain or shine
URL:https://dswa.com/event/document-shredding-cheswold-collection-station/2024-11-01/
LOCATION:DE
CATEGORIES:Paper Shredding
END:VEVENT
BEGIN:VEVENT
DTSTART;TZID=America/New_York:20241102T083000
DTEND;TZID=America/New_York:20241102T140000
DTSTAMP:20260421T042113
CREATED:20230106T173018Z
LAST-MODIFIED:20230421T190517Z
UID:10085752-1730536200-1730556000@dswa.com
SUMMARY:Household Hazardous Waste Collection- Delaware Recycling Center
DESCRIPTION:Household Hazardous Waste are collected from 10am-2pm. Household Hazardous Waste can include items such as household cleaners\, garden pesticides\, oil-based paint\, nail polish\, fluorescent bulbs\, and antifreeze. \nElectronics Recycling Available Monday-Saturday\, 8:30am-3:30pm \nDocument Shredding Available the 1st Friday of each month\, 10am-2pm \nNO LATEX PAINT\nLatex Paint is collected on the LAST Saturday of each month\, 8:30am-2pm
URL:https://dswa.com/event/household-hazardous-waste-collection-delaware-recycling-center/2024-11-02/
LOCATION:Delaware Recycling Center\, 1101 Lambson Lane\, New Castle\, DE\, 19720\, United States
CATEGORIES:HHW Collection
GEO:39.702837;-75.5327575
X-APPLE-STRUCTURED-LOCATION;VALUE=URI;X-ADDRESS=Delaware Recycling Center 1101 Lambson Lane New Castle DE 19720 United States;X-APPLE-RADIUS=500;X-TITLE=1101 Lambson Lane:geo:-75.5327575,39.702837
END:VEVENT
BEGIN:VEVENT
DTSTART;TZID=America/New_York:20241102T083000
DTEND;TZID=America/New_York:20241102T140000
DTSTAMP:20260421T042113
CREATED:20230830T161229Z
LAST-MODIFIED:20250521T141934Z
UID:10086600-1730536200-1730556000@dswa.com
SUMMARY:Document Shredding- Delaware Recycling Center
DESCRIPTION:AVAILABLE THE 1ST SATURDAY OF EVERY MONTH. \nPaper Shredding- Residents can bring up to 2 file boxes of personal confidential papers for shredding (financial and legal documents\, receipts\, and tax and medical records). Papers with staples or paper clips are accepted. \nRecycling of electronics is available Monday-Friday 8:30am-3:30pm and Saturday 8:30am-2pm \nAll events are restricted to Delaware residents and are held rain or shine
URL:https://dswa.com/event/document-shredding-delaware-recycling-center/2024-11-02/
LOCATION:The Delaware Recycling Center\, 1101 Lambsons Lane\, New Castle\, DE\, 19720\, United States
CATEGORIES:Paper Shredding
GEO:39.7048226;-75.5319155
X-APPLE-STRUCTURED-LOCATION;VALUE=URI;X-ADDRESS=The Delaware Recycling Center 1101 Lambsons Lane New Castle DE 19720 United States;X-APPLE-RADIUS=500;X-TITLE=1101 Lambsons Lane:geo:-75.5319155,39.7048226
END:VEVENT
BEGIN:VEVENT
DTSTART;TZID=America/New_York:20241102T110000
DTEND;TZID=America/New_York:20241102T150000
DTSTAMP:20260421T042113
CREATED:20241010T172047Z
LAST-MODIFIED:20241010T172047Z
UID:10087034-1730545200-1730559600@dswa.com
SUMMARY:DSWA Community Day!
DESCRIPTION:Join Us for Community Day!  \n️ Date: Saturday\, November 2nd\n Time: 11 AM – 3 PM\n Location: DSWA Environmental Education Center\, 601 Energy Lane\, Dover\, DE \nCome enjoy a day of FREE fun with delicious food\, crafts\, raffles\, yard games\, and the chance to explore our brand-new education center!  Plus\, special giveaways for teachers! Don’t miss out on this exciting community event! \n Mark your calendars and spread the word! \n Add to calendar
URL:https://dswa.com/event/dswa-community-day/
LOCATION:DSWA Dover Education Center\, 601 Energy Lane\, Dover\, DE\, 19901\, United States
END:VEVENT
END:VCALENDAR