BEGIN:VCALENDAR
VERSION:2.0
PRODID:-//DSWA - ECPv6.15.20//NONSGML v1.0//EN
CALSCALE:GREGORIAN
METHOD:PUBLISH
X-WR-CALNAME:DSWA
X-ORIGINAL-URL:https://dswa.com
X-WR-CALDESC:Events for DSWA
REFRESH-INTERVAL;VALUE=DURATION:PT1H
X-Robots-Tag:noindex
X-PUBLISHED-TTL:PT1H
BEGIN:VTIMEZONE
TZID:America/New_York
BEGIN:DAYLIGHT
TZOFFSETFROM:-0500
TZOFFSETTO:-0400
TZNAME:EDT
DTSTART:20240310T070000
END:DAYLIGHT
BEGIN:STANDARD
TZOFFSETFROM:-0400
TZOFFSETTO:-0500
TZNAME:EST
DTSTART:20241103T060000
END:STANDARD
BEGIN:DAYLIGHT
TZOFFSETFROM:-0500
TZOFFSETTO:-0400
TZNAME:EDT
DTSTART:20250309T070000
END:DAYLIGHT
BEGIN:STANDARD
TZOFFSETFROM:-0400
TZOFFSETTO:-0500
TZNAME:EST
DTSTART:20251102T060000
END:STANDARD
BEGIN:DAYLIGHT
TZOFFSETFROM:-0500
TZOFFSETTO:-0400
TZNAME:EDT
DTSTART:20260308T070000
END:DAYLIGHT
BEGIN:STANDARD
TZOFFSETFROM:-0400
TZOFFSETTO:-0500
TZNAME:EST
DTSTART:20261101T060000
END:STANDARD
END:VTIMEZONE
BEGIN:VEVENT
DTSTART;TZID=America/New_York:20250210T100000
DTEND;TZID=America/New_York:20250210T140000
DTSTAMP:20260425T180548
CREATED:20240806T232042Z
LAST-MODIFIED:20250812T185650Z
UID:10085915-1739181600-1739196000@dswa.com
SUMMARY:Household Hazardous Waste Collection- Southern Recycling Center (Jones Crossroads Landfill)
DESCRIPTION:Household Hazardous Waste are collected from 10am-2pm. Household Hazardous Waste can include items such as household cleaners\, garden pesticides\, oil-based paint\, nail polish\, fluorescent bulbs\, and antifreeze. \nElectronics Recycling Available Monday-Saturday\, 8:30am-3:30pm \nDocument Shredding Available the 1st Monday of each month\, 10am-2pm \nNO LATEX PAINT\nLatex Paint is collected on the LAST Monday of each month\, 10am-2pm
URL:https://dswa.com/event/household-hazardous-waste-collection-southern-recycling-center-jones-crossroads-landfill-2-2-2/2025-02-10/
LOCATION:Jones Crossroads Landfill\, 28560 Landfill Lane\, Georgetown\, DE\, 19947\, United States
CATEGORIES:HHW Collection
GEO:38.5946633;-75.4364622
X-APPLE-STRUCTURED-LOCATION;VALUE=URI;X-ADDRESS=Jones Crossroads Landfill 28560 Landfill Lane Georgetown DE 19947 United States;X-APPLE-RADIUS=500;X-TITLE=28560 Landfill Lane:geo:-75.4364622,38.5946633
END:VEVENT
BEGIN:VEVENT
DTSTART;TZID=America/New_York:20250212T100000
DTEND;TZID=America/New_York:20250212T140000
DTSTAMP:20260425T180548
CREATED:20230505T005124Z
LAST-MODIFIED:20241210T133952Z
UID:10086064-1739354400-1739368800@dswa.com
SUMMARY:Household Hazardous Waste Collection- Newark Recycling Center
DESCRIPTION:Household Hazardous Waste are collected from 10am-2pm. Household Hazardous Waste can include items such as household cleaners\, garden pesticides\, oil-based paint\, nail polish\, fluorescent bulbs\, and antifreeze. \nElectronics Recycling Available Monday-Saturday\, 8:30am-3:30pm \nDocument Shredding Available the 1st Wednesday of each month\, 10am-2pm \nNO LATEX PAINT\nLatex Paint is collected on the LAST Wednesday of each month\, 10am-2pm
URL:https://dswa.com/event/household-hazardous-waste-collection-newark-recycling-center/2025-02-12/
LOCATION:DSWA Newark Recycling Center\, 470 Corporate Blvd\, Newark\, DE\, 19702\, United States
CATEGORIES:HHW Collection
END:VEVENT
BEGIN:VEVENT
DTSTART;TZID=America/New_York:20250213T170000
DTEND;TZID=America/New_York:20250213T180000
DTSTAMP:20260425T180548
CREATED:20250205T145252Z
LAST-MODIFIED:20250205T145857Z
UID:10087592-1739466000-1739469600@dswa.com
SUMMARY:Technical Affairs and Facilities Management Committee Meeting
DESCRIPTION:DELAWARE SOLID WASTE AUTHORITY \nTECHNICAL AFFAIRS AND FACILITIES MANAGEMENT COMMITTEE MEETING \n601 Energy Lane\, Dover\, DE 19901 \nFebruary 13\, 2025 \n5:00 p.m. \n  \nUnder Title 29\, Section 10006A of the Delaware Code\, the Technical Affairs and Facilities Management Committee is holding this meeting as a virtual meeting utilizing Zoom Webinar. In addition\, this meeting is open to the public at DSWA’s Administration Building (601 Energy Lane Dover\, DE 19901).  \n  \nPlease click the link below to join the webinar: \nhttps://us02web.zoom.us/j/81575882440?pwd=dewZ4brQ5ISt4zVXxlKaIRB2bY_urQ.VmAIeBY3HfVWZYKs \nPasscode:263849 \n  \nOr Join by Telephone: \n+1 929 205 6099 US (New York) \nWebinar ID: 815 7588 2440 \nPasscode: 263849 \n  \nTFMC Committee  \nTimothy P. Sheldon – Chairman \nNorman D. Griffiths \nMichael Paraskewich\, PhD\, P.E. \n  \nAGENDA \n  \n\nTechnical & Facilities Management Committee Meeting Notes \n\n  \nThe meeting notes from the January 9\, 2025 meeting are attached. \n  \nACTION ITEMS:  \n  \n\n Replacement of Scales at the Pine Tree Corners Transfer Station (PTCTS)\n\nContract No. C-24-910-NT \n  \nStaff will make a recommendation concerning the contract for the Replacement of Scales at the Pine Tree Corners Transfer Station (PTCTS). \n  \n  \n\n Hauling of Leachate From the Central Solid Waste Management Center (CSWMC) Contract – Contract No. S-24-912-CS & Hauling of Leachate From the Southern Solid Waste Management Center (SSWMC) Contract – Contract No. S-24-913-SS\n\n  \nStaff will make a recommendation concerning the contracts of Hauling of Leachate From the Central Solid Waste Management Center (CSWMC) Contract & the Hauling of Leachate From the Southern Solid Waste Management Center (SSWMC). \n  \n  \n  \nINFORMATION ITEMS: \n  \n\n Project Status Update\n\n            Staff will review the monthly project status report. \n  \n\n Upcoming Projects Report \n\nStaff will review the monthly upcoming projects report. \n 
URL:https://dswa.com/event/technical-affairs-and-facilities-managment-committee-meeting/
LOCATION:DSWA Administration Building\, 601 Energy Lane\, Dover\, DE\, 19901\, United States
GEO:39.14236;-75.524484
X-APPLE-STRUCTURED-LOCATION;VALUE=URI;X-ADDRESS=DSWA Administration Building 601 Energy Lane Dover DE 19901 United States;X-APPLE-RADIUS=500;X-TITLE=601 Energy Lane:geo:-75.524484,39.14236
END:VEVENT
BEGIN:VEVENT
DTSTART;TZID=America/New_York:20250215T083000
DTEND;TZID=America/New_York:20250215T140000
DTSTAMP:20260425T180548
CREATED:20230106T173018Z
LAST-MODIFIED:20230421T190517Z
UID:10085813-1739608200-1739628000@dswa.com
SUMMARY:Household Hazardous Waste Collection- Delaware Recycling Center
DESCRIPTION:Household Hazardous Waste are collected from 10am-2pm. Household Hazardous Waste can include items such as household cleaners\, garden pesticides\, oil-based paint\, nail polish\, fluorescent bulbs\, and antifreeze. \nElectronics Recycling Available Monday-Saturday\, 8:30am-3:30pm \nDocument Shredding Available the 1st Friday of each month\, 10am-2pm \nNO LATEX PAINT\nLatex Paint is collected on the LAST Saturday of each month\, 8:30am-2pm
URL:https://dswa.com/event/household-hazardous-waste-collection-delaware-recycling-center/2025-02-15/
LOCATION:Delaware Recycling Center\, 1101 Lambson Lane\, New Castle\, DE\, 19720\, United States
CATEGORIES:HHW Collection
GEO:39.702837;-75.5327575
X-APPLE-STRUCTURED-LOCATION;VALUE=URI;X-ADDRESS=Delaware Recycling Center 1101 Lambson Lane New Castle DE 19720 United States;X-APPLE-RADIUS=500;X-TITLE=1101 Lambson Lane:geo:-75.5327575,39.702837
END:VEVENT
END:VCALENDAR